BEGIN:VCALENDAR
VERSION:2.0
PRODID:-//Abrahamic Reunion - ECPv6.15.20//NONSGML v1.0//EN
CALSCALE:GREGORIAN
METHOD:PUBLISH
X-WR-CALNAME:Abrahamic Reunion
X-ORIGINAL-URL:https://www.abrahamicreunion.org
X-WR-CALDESC:Events for Abrahamic Reunion
REFRESH-INTERVAL;VALUE=DURATION:PT1H
X-Robots-Tag:noindex
X-PUBLISHED-TTL:PT1H
BEGIN:VTIMEZONE
TZID:America/New_York
BEGIN:DAYLIGHT
TZOFFSETFROM:-0500
TZOFFSETTO:-0400
TZNAME:EDT
DTSTART:20210314T070000
END:DAYLIGHT
BEGIN:STANDARD
TZOFFSETFROM:-0400
TZOFFSETTO:-0500
TZNAME:EST
DTSTART:20211107T060000
END:STANDARD
BEGIN:DAYLIGHT
TZOFFSETFROM:-0500
TZOFFSETTO:-0400
TZNAME:EDT
DTSTART:20220313T070000
END:DAYLIGHT
BEGIN:STANDARD
TZOFFSETFROM:-0400
TZOFFSETTO:-0500
TZNAME:EST
DTSTART:20221106T060000
END:STANDARD
BEGIN:DAYLIGHT
TZOFFSETFROM:-0500
TZOFFSETTO:-0400
TZNAME:EDT
DTSTART:20230312T070000
END:DAYLIGHT
BEGIN:STANDARD
TZOFFSETFROM:-0400
TZOFFSETTO:-0500
TZNAME:EST
DTSTART:20231105T060000
END:STANDARD
END:VTIMEZONE
BEGIN:VEVENT
DTSTART;TZID=America/New_York:20220309T110000
DTEND;TZID=America/New_York:20220309T120000
DTSTAMP:20260424T222712
CREATED:20220228T134328Z
LAST-MODIFIED:20220228T134328Z
UID:8100-1646823600-1646827200@www.abrahamicreunion.org
SUMMARY:Young Peacebuilders of Palestine & Israel
DESCRIPTION:Building Bridges\, Dissolving Walls \n\nRegister (Free!) via Eventbrite\nCome hear from the next generation of multifaith peacebuilders in Palestine and Israel!\nFeaturing Live Music from Young Peacebuilders\, a short video from the Parliament Of Religions 2021 Young Peacebuilders Program\, Discussion\, and Q & A with the Young Peacebuilders.\nThese young women and men–Muslim\, Jewish\, Christian\, and Druze– have chosen to create heart-felt interreligious connections among themselves. Born into decades of conflict and a climate of growing division\, extremism\, and violence\, these young\, courageous\, and contemplative Muslim\, Jewish\, Christian\, and Druze men and women are choosing to create heart-felt interreligious connections amongst themselves. They believe in loving their neighbor (Christian Bible)\, that the purpose of human diversity is to “know one another” as human beings (Quran)\, and that if one life is saved it is as if all lives were saved (Talmud). They have spent the pandemic learning from the first generation of Abrahamic Reunion peacebuilders (cir. 2004) in multi-religious text studies and meetings online. \nBorn into decades of conflict and a climate of growing division\, extremism\, and violence\, these courageous and contemplative young men and women are choosing to create heart-felt interreligious connections with one another as human beings.  Without any political agenda\, these young Peacemakers visit each other’s holy spaces\, trade stories\, and connect the common threads between their religions and cultures to restore the Abrahamic roots that support understanding\, healing\, trust\, and a peaceful and balanced Palestinian-Israeli society. \nPlease join us for a panel presentation from these young leaders to hear why and how they continue to embrace each other and to wage peace. \nBIOS \nSHAHED BAGDADI \nShahed was born into a peace family and has been part of the interfaith movement since she was a baby. She lives in Nazareth\, Israel\, and is 20 years old. She is one of the young leaders of the interfaith movement in the Holy Land\, and has participated in Abrahamic Reunion Young Peacebuilders trainings\, peace activities\, summits\, workshops and events. \nHANAN HALABI \nHanan is 19 years old\, from Daliat-Al Carmel in the North of Israel\, and a member of the Druze faith community. She is one of the young leaders of the interfaith movement in the Holy Land\, and she began walking this way of peace in high school. She is part of Abrahamic Reunion peace activities. \n. \nMALKON MARIZIAN  \nIs an Armenian Christian youth peacebuilder from East Jerusalem\, who helps the AR as a translator for many events\, and is a longtime participant in the Abrahamic Reunion. Studied for an MSc in Human Rights from London School of Economics and Political Sciences\, and has worked in projects helping Palestinian and Syrian refugees.  \nDVIR WARSHOVSKY  \nMy name is Dvir Warshovsky\, and I’m 25 years old. I live in the Negev desert\, in a small town called Yeruham. In recent years\, I have been active in promoting cooperation between Jews and Muslims\, especially between the Bedouin communities and the Jews of the Negev. I am also a student for MA government in IDC Herzliya\, and I hope to make an impact in the field of coexistence in the Negev.I believe that peace is the most complex issue I can imagine\, but also the simplest thing in the world. A place where there is peace\, seems to me like a person who has woken from a deep sleep.  \nABED MANASRA\, AR Israeli Director \nSheikh Abed Alsalam Manasra is the son of Sheikh Ghassan Manasra. He is an ordained Sheikh in the Tariqat Qadriyya As-Salaam (Qadiri Sufi Order Of Peace). He is a musician and works with young adults and youth to organize interfaith dialogue and gatherings in and around Nazareth. Abed@abrahamicreunion.org \nMOHAMAD JAMMOUS\, AR Palestinian Director \nMohamad Jamous is a young Peacemaker living in Jericho\, Palestine\, coordinating programs\, interfaith events\, peace journeys\, and intra-Palestine peacemaking events to build the movement for peace. He is one of the great emerging multi-faith peacemaking leaders in the Holy Land.
URL:https://www.abrahamicreunion.org/event/young-peacebuilders-of-palestine-israel/
LOCATION:FL
CATEGORIES:AR Holy Land,AR USA
END:VEVENT
END:VCALENDAR