BEGIN:VCALENDAR
VERSION:2.0
PRODID:-//Abrahamic Reunion - ECPv6.15.20//NONSGML v1.0//EN
CALSCALE:GREGORIAN
METHOD:PUBLISH
X-ORIGINAL-URL:https://www.abrahamicreunion.org
X-WR-CALDESC:Events for Abrahamic Reunion
REFRESH-INTERVAL;VALUE=DURATION:PT1H
X-Robots-Tag:noindex
X-PUBLISHED-TTL:PT1H
BEGIN:VTIMEZONE
TZID:UTC
BEGIN:STANDARD
TZOFFSETFROM:+0000
TZOFFSETTO:+0000
TZNAME:UTC
DTSTART:20210101T000000
END:STANDARD
END:VTIMEZONE
BEGIN:VEVENT
DTSTART;TZID=UTC:20220727T110000
DTEND;TZID=UTC:20220727T120000
DTSTAMP:20260422T174423
CREATED:20220701T181122Z
LAST-MODIFIED:20220722T220236Z
UID:8396-1658919600-1658923200@www.abrahamicreunion.org
SUMMARY:Experiences From The Holy Land: June Peacebuilding Tour Highlights
DESCRIPTION:Experiences From The Holy Land:\nJune Peacebuilding Tour Highlights\nw/ David Less\, Peaceuilders\, Tour Participants\nJuly 27th\, 11am EDT / 6pm Holy Land\nThis spring\, 22 peace-supporters traveled to the Holy Land with US Board Chairman David Less\, to experience the layers of the Holy Land and meet the peacemakers of the Abrahamic Reunion. Participants said it was the journey of a lifetime that continues to move their hearts and spirits.\n\nJoin us for their stories\, reflections\, professional video footage\, and photos.\n\nZoom Link
URL:https://www.abrahamicreunion.org/event/experiences-from-the-holy-land-june-peacebuilding-tour-highlights/
LOCATION:FL
CATEGORIES:AR Holy Land,AR USA
END:VEVENT
END:VCALENDAR