BEGIN:VCALENDAR
VERSION:2.0
PRODID:-//Abrahamic Reunion - ECPv6.15.20//NONSGML v1.0//EN
CALSCALE:GREGORIAN
METHOD:PUBLISH
X-WR-CALNAME:Abrahamic Reunion
X-ORIGINAL-URL:https://www.abrahamicreunion.org
X-WR-CALDESC:Events for Abrahamic Reunion
REFRESH-INTERVAL;VALUE=DURATION:PT1H
X-Robots-Tag:noindex
X-PUBLISHED-TTL:PT1H
BEGIN:VTIMEZONE
TZID:America/New_York
BEGIN:DAYLIGHT
TZOFFSETFROM:-0500
TZOFFSETTO:-0400
TZNAME:EDT
DTSTART:20210314T070000
END:DAYLIGHT
BEGIN:STANDARD
TZOFFSETFROM:-0400
TZOFFSETTO:-0500
TZNAME:EST
DTSTART:20211107T060000
END:STANDARD
BEGIN:DAYLIGHT
TZOFFSETFROM:-0500
TZOFFSETTO:-0400
TZNAME:EDT
DTSTART:20220313T070000
END:DAYLIGHT
BEGIN:STANDARD
TZOFFSETFROM:-0400
TZOFFSETTO:-0500
TZNAME:EST
DTSTART:20221106T060000
END:STANDARD
BEGIN:DAYLIGHT
TZOFFSETFROM:-0500
TZOFFSETTO:-0400
TZNAME:EDT
DTSTART:20230312T070000
END:DAYLIGHT
BEGIN:STANDARD
TZOFFSETFROM:-0400
TZOFFSETTO:-0500
TZNAME:EST
DTSTART:20231105T060000
END:STANDARD
END:VTIMEZONE
BEGIN:VEVENT
DTSTART;TZID=America/New_York:20220914T110000
DTEND;TZID=America/New_York:20220914T120000
DTSTAMP:20260422T142307
CREATED:20220901T203747Z
LAST-MODIFIED:20220914T145326Z
UID:8596-1663153200-1663156800@www.abrahamicreunion.org
SUMMARY:Meet the New Israeli Board!
DESCRIPTION:Meet the New Israeli Board! \nWednesday\, Sept 14th \n11am – 12pm EDT / 6-7pm Holy Land \nIn 2021\, the AR registered as an Amutah\, an NGO in Israel. The new Board of Directors has been energizing growth in programs on the ground\, including holding 3 Iftars and now 3 Cultural Leaders In Peace training groups. \nJoin us to learn about each of the new Directors\, hear why they are working with the AR for peace\, and a chance for some Q&A to hear their perspectives. Hosted by Sheikh Ghassan Manasra. \nClick here for the Zoom Link\nAmutah Organization & Board of Directors\n (Amutah is the name for a Nonprofit in Israel)\nAnat Lev Or\, Tel Aviv\, Co-Chair \n\n\n\nAnat Lev Or from Israel\, is a mother and spiritual teacher and companion for over 30 years. Anat accompanies people in the process of growth and change\, as well as businessmen through spiritual\, practical\, and business aspects. Anat has been Ghassan Manasra’s partner for 25 years in building projects that are shared by all religions\, working as peacemakers and establishing study groups such as a program for teachers and school executives from all religions\, Muslims\, Christians\, and Jews. \nSheikha Najah Kabaha\, Nazareth\, Co-Chair \n\n\n\n\n\n\nSheikha Umm Bra’a Najah Kabaha is a leader in the Muslim community who lives in the city of Nazareth\, the largest Arab city in Israel. She has worked for interfaith understanding and dialogue through the Qadiri Tariqat as-Salaam\, the Lights of Peace Society\, and the Abrahamic Reunion for many years. She also teaches children and early childhood. \n\n\n\nImam Dr. Khalid Abu Ras\, Ilut \n\n\n\nDr. Khalid is the Imam of Al-IMAN Mosque in Ilut\, outside Nazareth\, in the North of Israel\, an educator\, Arabic Language and Literature teacher in High Schools and Secondary Schools\, and has worked for YESODOT Center for Torah & Democracy in Jerusalem\, Anwar al-Salaam the Lights of Peace Association Founder & Co-Director in Nazareth\, Yakar Center in Jerusalem\, and many other interfaith and intercultural initiatives over the last 25 years. He has his PhD in Arabic Studies from Bar-Ilan University. \nDvora Haitsook-Shani\, Givatayim \nDvora is a fierce believer in narrowing political\, national\, and religious tensions through cross-religious meetings\, discussions\, and cultural activity. She is a photographer\, curator\, and professor and teacher of photography at such places as the College of Geographical Photography\, Tel-Aviv Artists House\, Tel-Aviv Museum Art School\, Beit Ekstein Ramat Gan\, Ort Hermelin College\, and others. She is happily married and the mother of three children. \n\n\n\nFr. Nael Abu Rahmoun\, Nazareth \n\n\n\nFr. Nael is the Vicar of Nazareth for St. George’s Episcopal Church. He completed his theological studies in Rome At Angelicum/Pontifical University of Thomas Aquinas\, and has served churches in Zababdeh (West Bank)\, East Jerusalem\, and Ramallah before returning to his hometown of Nazareth. He has been part of the Abrahamic Reunion for over 10 years\, and loves to remind the world that\, “God is inclusive!” \n\n\n\nSiham Halabi\, Daliat al-Carmel \n\nSiham Halabi is a Druze leader and the Director of the Women’s Program and Adult Education at the Daliat Al Carmel Community Center providing courses in women’s economic empowerment\, home management\, drivers education\, Hebrew and Arabic languages\, social activism\, and interfaith understanding. She is a Coordinator of the TRUST WIN\, a member of the  Women’s Parliament and various orgaizations for dialogue and understanding between the cultures\, and for the advancement of women and social issues affecting women.  She is a Druze spokeswoman representing Druze women in national forums. \nAbed Alsalam Manasra \nSheikh Abed Alsalam Manasra is the son of Sheikh Ghassan Manasra. He is an ordained Sheikh in the Tariqat Qadriyya As-Salaam (Qadiri Sufi Order of Peace). He is a musician\, performing with his wife Israa\, and family\, and works with youth and young adults to organize interfaith dialogue and gatherings in the Holy Land. Abed@abrahamicreunion.org \n\nSheikh Ghassan Manasra\, Nazareth / Florida \n\n\n\nSheikh Ghassan Manasra\, International Director of the Abrahamic Reunion\, oversees programming in the Holy Land and Internationally since 2015. He was one of the Abrahamic Reunion’s Co-Coordinators in the Holy Land from 2014-2015\, before moving to the US with his family\, and has been an active contributing Peacemaker with the AR for more than a decade\, and in the Holy Land in many organizations for over 35 years.He is an ordained Sheikh in the Qadiri Sufi Order in the Holy Land\, and son of Sheikh Abdel Salaam Manasra – head of the Qadiri Sufi Order in the Holy Land. He is the founder of Anwar-Il-Salaam\, the Lights of Peace Center in Nazareth\, and is Director\, Islamic Cultural Center in Nazareth. Ghassan is an expert and lectures in Islam\, Islamic history\, Sufism\, and contemporary Muslim issues in the Middle East\, Europe\, and the USA. Ghassan@abrahamicreunion.org
URL:https://www.abrahamicreunion.org/event/meet-the-new-israeli-board/
LOCATION:FL
END:VEVENT
END:VCALENDAR