BEGIN:VCALENDAR
VERSION:2.0
PRODID:-//Abrahamic Reunion - ECPv6.15.20//NONSGML v1.0//EN
CALSCALE:GREGORIAN
METHOD:PUBLISH
X-ORIGINAL-URL:https://www.abrahamicreunion.org
X-WR-CALDESC:Events for Abrahamic Reunion
REFRESH-INTERVAL;VALUE=DURATION:PT1H
X-Robots-Tag:noindex
X-PUBLISHED-TTL:PT1H
BEGIN:VTIMEZONE
TZID:UTC
BEGIN:STANDARD
TZOFFSETFROM:+0000
TZOFFSETTO:+0000
TZNAME:UTC
DTSTART:20250101T000000
END:STANDARD
END:VTIMEZONE
BEGIN:VEVENT
DTSTART;TZID=UTC:20260415T120000
DTEND;TZID=UTC:20260415T130000
DTSTAMP:20260422T093936
CREATED:20260411T175134Z
LAST-MODIFIED:20260414T175810Z
UID:11646-1776254400-1776258000@www.abrahamicreunion.org
SUMMARY:Giving Challenge Online with David Less\, Ghassan Manasra\, Abed Manasra\, More!
DESCRIPTION:SARASOTA COMMUNITY FOUNDATION GIVING CHALLENGE MATCHING FUND\n\n\n\n\n\n\n\n\n\n\n\n\n\n\n\n\n\n\n\n\n\n\n\n\n\n\n\n\n\n\n\n\n\n\n\n\n\n\n\n\n\n\n\n\n\n\n\n\n\n\n\n\n\n\n\n\n\n\n\n\n\n\n\n\n\n\n\n\n\n\n\n\n\n\n\n\n\n\n\n\n\n\n\n\n\n\n\n\n\n\n\n\n\n\n\n\n\n\n\n\nDouble your Donation!! Giving Challenge Donation Link\n\n\n\n\n\n\n\n\n\n\n\n\n\n\n\n\n\n\n\n\n\nJoin the Zoom Meeting\n  \nDOUBLE YOUR DONATION FOR PEACE \nSarasota Community Foundation is offering it’s annual matching funds Giving Challenge\, April 15th\, 12 ET – April 16th\, 12pm ET. \nDonations must be received in the 24hr window. \nAll donations\, up to $100\, will be matched by a donor\, through the Sarasota Community Foundation — help us access these funds with your donations! \nYou can be anywhere in the world\, just donate through this link to get the matching funds for Abrahamic Reunion. \nWe will use these funds in 2026 to bring together a Women’s Dialogue Circle online and in the Holy Land; continue the 3-year Young Peacebuilders Training Program; Facilitate Peacebuilding at all levels in the Holy Land; Organize Peacebuilding Programs in Sarasota and the US. \nThank you so much for your support. \nONLINE PROGRAM \nJoin us LIVE\, online at 12pm ET on Wednesday\, April 16th\, to kick off the Giving Challenge! \nDavid Less\, Ghassan Manasra\, Abed Elsalam Manasra\, and Chris Miller\, and the Abrahamic Reunion will kick off this event on Wednesday with a live program online featuring music\, updates from the ground about in the Holy Land during the wars\, inspirational messages about peace\, and news from our Young Peacebuilders program. \nPlease join us!!\n\n\n\n\n\n\n\n\n\n\n\n\n\n\n\n\n\n\n\n\n\n\n\n\n\n\n \n\n\n\n\n\n\n\n\n\n\n\n\n\n\n\nDouble your Donation!! Giving Challenge Donation Link\n\n\n\n\n \n\n\n\n\n\n\n\n\n\n\n\nJoin the Zoom Meeting\n\n\n\n\n \n\n\n\n\n\n\n\n\n\n\n\n\n\n\n\n\n\n\n\n\n\n\n\n\n\n\n\n\n\n\n\n\n\n\n\n\n\n\nPresenters\n\n\n\n\n\n\n\n\n\n\n\n\n\n\n\n\n\n\n\n\n\n\n\n\n\n\n\n\n\n\n\n\nSheikh Ghassan Manasra \nInternational Director\, Abrahamic Reunion\, 35+ years as a peacebuilder\, peacemaker\, facilitator\, and dialogue expert in the Holy Land.\n\n\n\n\n\n\n\n\n\n\n\n\n\n\n\n\n\n\n\n\n\n\n\n\n\n\n\n\n\n\n\nDavid Less \nCo-Founder\, Abrahamic Reunion\, Co-Chair\, Abrahamic Reunion USA. Global meditation teacher.\n\n\n\n\n\n\n\n\n\n\n\n\n\n\n\n\n\n\n\n\n\n\n\n\n\n\n\n\n\n\n\nSheikh Abd Elsalam Manasra \nInterreligious Dialogue Expert\, Rising Tide International \nHoly Land Programs Director for Abrahamic Reunion \nSheikh in the Sufi Qadiri Tariqa as-Salaam of the Holy Land. Skilled oud player.\n\n\n\n\n\n\n\n\n\n\n\n\n\n\n\n\n\n\n\n\n\n\n\n\n\n\n\n\n\n\n\nRev. Chris Miller \nExecutive Director\, Abrahamic Reunion\, Cherag (Minister) of the Universal Worship.
URL:https://www.abrahamicreunion.org/event/giving-challenge-online-with-david-less-ghassan-manasra-abed-manasra-more/
LOCATION:Zoom\, FL\, United States
CATEGORIES:AR USA,Fundraiser,Online
END:VEVENT
END:VCALENDAR