BEGIN:VCALENDAR
VERSION:2.0
PRODID:-//Abrahamic Reunion - ECPv6.15.20//NONSGML v1.0//EN
CALSCALE:GREGORIAN
METHOD:PUBLISH
X-ORIGINAL-URL:https://www.abrahamicreunion.org
X-WR-CALDESC:Events for Abrahamic Reunion
REFRESH-INTERVAL;VALUE=DURATION:PT1H
X-Robots-Tag:noindex
X-PUBLISHED-TTL:PT1H
BEGIN:VTIMEZONE
TZID:UTC
BEGIN:STANDARD
TZOFFSETFROM:+0000
TZOFFSETTO:+0000
TZNAME:UTC
DTSTART:20240101T000000
END:STANDARD
END:VTIMEZONE
BEGIN:VEVENT
DTSTART;TZID=UTC:20250306T050000
DTEND;TZID=UTC:20250306T193000
DTSTAMP:20260421T121028
CREATED:20250303T174101Z
LAST-MODIFIED:20250303T203959Z
UID:10976-1741237200-1741289400@www.abrahamicreunion.org
SUMMARY:Multi-Faith Ramadan Peace Dinner in Sarasota\, FL
DESCRIPTION:Live Music ~ Palestinian / Middle Eastern Food ~ Interfaith Dialogue\, Prayer\, and Words of Peace ~ Meet people from other faiths. \n\nThursday\, March 6th\, 5pm EST at Rising Tide International \n\nPlease click here to RSVP!\n\n\n\n\n\n\n\n\n\n\n\nDear Friends\,\n\nThe Abrahamic Reunion is beginning to hold interfaith\, intercultural peace programs in Sarasota again. We are blessed to have been based in Sarasota since inception\, and our two primary staff directors\, International Director Sheikh Ghassan Manasra\, and Israeli Programs Director Abed Manasra\, both live in Sarasota part-time.\n\nPlease join us for an incredible and powerful event to bring people together\, share wisdom\, words\, and prayers for peace\, listen to spiritual music\, and eat delicious food together.\n \nPlease click here to RSVP!\n\nDetails below.\n\nThanks\, peace\, and blessings to you all~\n\nChris Miller\, Sheikh Ghassan Manasra\, Abed Mansra\, and the AR\n\n…\n\n\n\n\n\nSave the date!! \nMulti-faith Ramadan Iftar Peace Dinner at Rising Tide hosted by the Abrahamic Reunion. \n\nThursday\, March 6th\, 5 -7:30 or 8pm EST.\n\nRSVP required via this Google Form: https://docs.google.com/forms/d/e/1FAIpQLScY-teOBjdx9ENb4IPE8XLg27tYsPH4AGNLr1a8iO5lM9u2SA/viewform?usp=dialog\n\nDETAILS: \nAll welcome to gather and celebrate the breaking of the fast with our Muslim brothers and sisters\, featuring prayers for peace\, music\, and interfaith connection.\n\nAttendance is free\, donations accepted for building peace between faiths and communities in Israel-Palestine and Sarasota.\n\nPlease bring a dish of cookies\, dates\, dessert\, salad\, or food to share for the breaking-the-fast feast (halal)— there will be traditional Palestinian and Middle Eastern food prepared as well by the Manasra Family.\n\n\nCONTACT: Chris Miller\, chris@abrahamicreunion.org\, 941-993-9994\nTIME: 5pm EST\, Thursday\, March 6th\, 2025
URL:https://www.abrahamicreunion.org/event/multi-faith-ramadan-peace-dinner-in-sarasota-fl/
LOCATION:FL
CATEGORIES:Iftar,Interfaith Conference,Interfaith Meeting,Spiritual Gathering
END:VEVENT
BEGIN:VEVENT
DTSTART;TZID=UTC:20250319T103000
DTEND;TZID=UTC:20250319T123000
DTSTAMP:20260421T121028
CREATED:20250303T204913Z
LAST-MODIFIED:20250303T204913Z
UID:10977-1742380200-1742387400@www.abrahamicreunion.org
SUMMARY:"Hope" - Abrahamic Reunion's 20th Annual Multi-Faith Iftar Dinner in the Holy Land
DESCRIPTION:Since 2006!! \nYou are invited to join this Iftar dinner and interfaith program via Zoom online. \n10:30am EST // 5:30pm Holy Land Time \n \n20th Annual Multifaith Ramadan Iftar Dinner for Peace in the Holy Land\n“Hope” is our theme and title for 2025’s Iftars.\nRSVP and Register via Eventbrite — Click Here (Free/Donation)\nNow\, more than ever\, connection\, dialogue\, shared meals\, and safe\, facilitated\, shared spaces are needed to bring the peoples of the Holy Land back together and rebuild the pluralistic society of compassion and understanding after the conflict. \nThis event is the beginning of THE DAY AFTER programming from Abrahamic Reunion\, focusing on the stage of healing that comes after the devastating conflict\, destruction\, and loss of life. How can we possibly rebuild after such traumatic and horrific events? \nJoin us to find out how the leaders of the Abrahamic Reunion and their networks and connections in Jewish\, Muslim\, Christian\, Druze\, and other socieites in are responding and see them come together for this special Ramadan Iftar dinner. \nAbrahamic Reunion (AR)invites you for a truly unique\, healing\, and diverse Ramadan Iftar Dinner for Peace and Safety in the Holy Land — Open to all! \nWednesday\, March 19th\, 10:30am EST – 12:00pm EST on Zoom \n(Exact time might alter\, slightly) \nKey Links: \n\nDonate to the Iftar Fundraiser – Sponsor the event!\nWhat is the AR Multifaith Iftar and why does it matter? Learn more\nLive Blog and Photos from our 2023 Peace Iftar with Hartman Institute\n\nWe will livestream the Iftar Program over Zoom with Live Translation and Commentary. Details will be sent by confirmation email. \nProgram Highlights: \n\nPeace Prayers & Statements from Muslim\, Jewish\, Christian\, and Druze Religious\, Cultural\, and Peace Leaders from across Holy Land Society\nMulti-faith Text Study session\nLive Music Performance\nSymbolic Breaking of the Fast Together: You are invited to fast up to 16hrs prior to the breaking of the fast in the Holy Land\, which will be at 5:59pm Jerusalem / 10:59am EST (Of course those Muslims living outside the Holy Land will not join in the symbolic breaking of the fast). Bring Dates and Water or another food item to break the fast together.\n\nPEACE — SALAM — SHALOM \n 
URL:https://www.abrahamicreunion.org/event/hope-abrahamic-reunions-20th-annual-multi-faith-iftar-dinner-in-the-holy-land/
LOCATION:Zoom\, FL\, United States
CATEGORIES:AR Germany,AR Holy Land,AR UK,AR USA,Iftar,Interfaith Meeting,Interfaith Text Study / Scriptural Reasoning,Online,Prayer
END:VEVENT
END:VCALENDAR