BEGIN:VCALENDAR
VERSION:2.0
PRODID:-//Abrahamic Reunion - ECPv6.15.19//NONSGML v1.0//EN
CALSCALE:GREGORIAN
METHOD:PUBLISH
X-ORIGINAL-URL:https://www.abrahamicreunion.org
X-WR-CALDESC:Events for Abrahamic Reunion
REFRESH-INTERVAL;VALUE=DURATION:PT1H
X-Robots-Tag:noindex
X-PUBLISHED-TTL:PT1H
BEGIN:VTIMEZONE
TZID:UTC
BEGIN:STANDARD
TZOFFSETFROM:+0000
TZOFFSETTO:+0000
TZNAME:UTC
DTSTART:20160101T000000
END:STANDARD
END:VTIMEZONE
BEGIN:VEVENT
DTSTART;TZID=UTC:20181110T090000
DTEND;TZID=UTC:20181110T120000
DTSTAMP:20260420T131146
CREATED:20181023T204559Z
LAST-MODIFIED:20181023T204559Z
UID:8026-1541840400-1541851200@www.abrahamicreunion.org
SUMMARY:Resting in the Words of the Divine at the Abode
DESCRIPTION:Join Sheikh Ghassan and Rabbi Mordechai to contemplate\, study\, and discuss religious texts from the Jewish\, Muslim\, and Christian tradition. In the spirit of Shabbat\, we’ll come together to take refuge and rest in the words of the divine and the presence of friends we know and friends we’ll make. This is a meeting of knowing each other\, knowing the scriptures more deeply\, sharing practices to explore the teachings more deeply\, and by knowing one another\, and each others’ traditions and religions\, knowing ourselves more deeply. This can help weave the fabric of peace throughout our community and our lives.\n—\nSheikh Ghassan Manasra is the International Director of the Abrahamic Reunion. He is an internationally recognized expert in interreligious dialogue and has been a front-line peacemaker in the Holy Land for over 30 years. He’s an ordained Sheikh in the Qadriyya Tariqat As-Salaam of the Holy Land. \nRabbi Mordechai Zeller is a UK Trustee for the Abrahamic Reunion. An Israeli Rabbi\, Mordechai is currently at Cambridge University in the UK as a campus Chaplain\, and is a longtime peacemaker at AR events.\n—\nTickets for this event are $15 and are contributed to the Abrahamic Reunion. Additional donations welcome. \nMore information and tickets available at theabode.org/programs/623
URL:https://www.abrahamicreunion.org/event/resting-in-the-words-of-the-divine-at-the-abode-2/
CATEGORIES:Interfaith Text Study / Scriptural Reasoning
ATTACH;FMTTYPE=:
END:VEVENT
BEGIN:VEVENT
DTSTART;TZID=UTC:20181110T090000
DTEND;TZID=UTC:20181110T120000
DTSTAMP:20260420T131146
CREATED:20181023T204559Z
LAST-MODIFIED:20181023T204559Z
UID:5402-1541840400-1541851200@www.abrahamicreunion.org
SUMMARY:Resting in the Words of the Divine at the Abode
DESCRIPTION:Join Sheikh Ghassan and Rabbi Mordechai to contemplate\, study\, and discuss religious texts from the Jewish\, Muslim\, and Christian tradition. In the spirit of Shabbat\, we’ll come together to take refuge and rest in the words of the divine and the presence of friends we know and friends we’ll make. This is a meeting of knowing each other\, knowing the scriptures more deeply\, sharing practices to explore the teachings more deeply\, and by knowing one another\, and each others’ traditions and religions\, knowing ourselves more deeply. This can help weave the fabric of peace throughout our community and our lives.\n—\nSheikh Ghassan Manasra is the International Director of the Abrahamic Reunion. He is an internationally recognized expert in interreligious dialogue and has been a front-line peacemaker in the Holy Land for over 30 years. He’s an ordained Sheikh in the Qadriyya Tariqat As-Salaam of the Holy Land. \nRabbi Mordechai Zeller is a UK Trustee for the Abrahamic Reunion. An Israeli Rabbi\, Mordechai is currently at Cambridge University in the UK as a campus Chaplain\, and is a longtime peacemaker at AR events.\n—\nTickets for this event are $15 and are contributed to the Abrahamic Reunion. Additional donations welcome. \nMore information and tickets available at theabode.org/programs/623
URL:https://www.abrahamicreunion.org/event/resting-in-the-words-of-the-divine-at-the-abode/
CATEGORIES:Interfaith Text Study / Scriptural Reasoning
ATTACH;FMTTYPE=:
END:VEVENT
BEGIN:VEVENT
DTSTART;TZID=UTC:20170207T190000
DTEND;TZID=UTC:20170207T210000
DTSTAMP:20260420T131146
CREATED:20170113T153045Z
LAST-MODIFIED:20170113T153045Z
UID:8001-1486494000-1486501200@www.abrahamicreunion.org
SUMMARY:Interfaith Text Study & Peace Prayer - Lake Worth\, FL
DESCRIPTION:
URL:https://www.abrahamicreunion.org/event/interfaith-text-study-peace-prayer-lake-worth-fl-2/
CATEGORIES:Interfaith Meeting,Interfaith Text Study / Scriptural Reasoning
END:VEVENT
BEGIN:VEVENT
DTSTART;TZID=UTC:20170207T190000
DTEND;TZID=UTC:20170207T210000
DTSTAMP:20260420T131146
CREATED:20170113T153045Z
LAST-MODIFIED:20170113T153045Z
UID:3314-1486494000-1486501200@www.abrahamicreunion.org
SUMMARY:Interfaith Text Study & Peace Prayer - Lake Worth\, FL
DESCRIPTION:
URL:https://www.abrahamicreunion.org/event/interfaith-text-study-peace-prayer-lake-worth-fl/
CATEGORIES:Interfaith Meeting,Interfaith Text Study / Scriptural Reasoning
END:VEVENT
END:VCALENDAR