BEGIN:VCALENDAR
VERSION:2.0
PRODID:-//Abrahamic Reunion - ECPv6.15.19//NONSGML v1.0//EN
CALSCALE:GREGORIAN
METHOD:PUBLISH
X-WR-CALNAME:Abrahamic Reunion
X-ORIGINAL-URL:https://www.abrahamicreunion.org
X-WR-CALDESC:Events for Abrahamic Reunion
REFRESH-INTERVAL;VALUE=DURATION:PT1H
X-Robots-Tag:noindex
X-PUBLISHED-TTL:PT1H
BEGIN:VTIMEZONE
TZID:UTC
BEGIN:STANDARD
TZOFFSETFROM:+0000
TZOFFSETTO:+0000
TZNAME:UTC
DTSTART:20170101T000000
END:STANDARD
END:VTIMEZONE
BEGIN:VEVENT
DTSTART;TZID=UTC:20190222T140000
DTEND;TZID=UTC:20190224T170000
DTSTAMP:20260420T153607
CREATED:20190117T195308Z
LAST-MODIFIED:20190117T195308Z
UID:5628-1550844000-1551027600@www.abrahamicreunion.org
SUMMARY:Three Day Seattle Peacemaker Training with Sheikh Ghassan Manasra
DESCRIPTION:Sheikh Ghassan Manasra\, the International Director of the Abrahamic Reunion\, will be offering a three day interactive training in Seattle for people who want to learn how to: \n• Bring together a multi-faith community and become a peacemaker\n• Facilitate discussions in large and small groups of different cultures and faiths\n• Build a group for comparative text study and dialogue \n \nTuition: $250 \nDeposit of $100 due upon registration \nLocation available upon registration or inquiry \nContact: Judith Allen seattle@abrahamicreunion.org \nwww.abrahamicreunion.org  \n  \n  \nWho We Are: The Abrahamic Reunion is an organization dedicated to building bridges and generating connection and understanding between people from diverse religious and cultural communities. Its unique methods are used in prisons\, schools\, community centers\, religious institutions\, and even by people in their own homes to bring together children\, youth\, adults\, and families from different communities\, to know one another and create bonds of empathy. \nBio: Ghassan Manasra is an Arab Israeli who is a globally recognized and respected expert in Interreligious Dialogue and Facilitation. He is a Fulbright Scholar\, and an Arabic and Hebrew scholar who offers international presentations on Middle Eastern topics and issues. He was the recipient of the 2014 Outstanding Leader in Interreligious Dialogue Award from Temple University (USA). He is also a trusted advisor to heads of state in the Middle East\, Europe\, and North America. Ghassan has worked with individuals\, communities\, and governments in times of crisis and in times of peace. His methods have been honed over the last 30 years to the point where he now uses his experience to train others. \n  \n  \nPAYMENT & REGISTRATION\nChecks can be mailed to 2372 Arden Drive\, Sarasota\, FL 34232\, made out to the Abrahamic Reunion. \nPlease RSVP as there are limited places available\, to seattle@abrahamicreunion.org
URL:https://www.abrahamicreunion.org/event/three-day-seattle-peacemaker-training-with-sheikh-ghassan-manasra/
CATEGORIES:AR USA,Peacemaker Training
END:VEVENT
BEGIN:VEVENT
DTSTART;TZID=UTC:20190222T140000
DTEND;TZID=UTC:20190224T170000
DTSTAMP:20260420T153607
CREATED:20190117T195308Z
LAST-MODIFIED:20190117T195308Z
UID:8032-1550844000-1551027600@www.abrahamicreunion.org
SUMMARY:Three Day Seattle Peacemaker Training with Sheikh Ghassan Manasra
DESCRIPTION:Sheikh Ghassan Manasra\, the International Director of the Abrahamic Reunion\, will be offering a three day interactive training in Seattle for people who want to learn how to: \n• Bring together a multi-faith community and become a peacemaker\n• Facilitate discussions in large and small groups of different cultures and faiths\n• Build a group for comparative text study and dialogue \n \nTuition: $250 \nDeposit of $100 due upon registration \nLocation available upon registration or inquiry \nContact: Judith Allen seattle@abrahamicreunion.org \nwww.abrahamicreunion.org  \n  \n  \nWho We Are: The Abrahamic Reunion is an organization dedicated to building bridges and generating connection and understanding between people from diverse religious and cultural communities. Its unique methods are used in prisons\, schools\, community centers\, religious institutions\, and even by people in their own homes to bring together children\, youth\, adults\, and families from different communities\, to know one another and create bonds of empathy. \nBio: Ghassan Manasra is an Arab Israeli who is a globally recognized and respected expert in Interreligious Dialogue and Facilitation. He is a Fulbright Scholar\, and an Arabic and Hebrew scholar who offers international presentations on Middle Eastern topics and issues. He was the recipient of the 2014 Outstanding Leader in Interreligious Dialogue Award from Temple University (USA). He is also a trusted advisor to heads of state in the Middle East\, Europe\, and North America. Ghassan has worked with individuals\, communities\, and governments in times of crisis and in times of peace. His methods have been honed over the last 30 years to the point where he now uses his experience to train others. \n  \n  \nPAYMENT & REGISTRATION\nChecks can be mailed to 2372 Arden Drive\, Sarasota\, FL 34232\, made out to the Abrahamic Reunion. \nPlease RSVP as there are limited places available\, to seattle@abrahamicreunion.org
URL:https://www.abrahamicreunion.org/event/three-day-seattle-peacemaker-training-with-sheikh-ghassan-manasra-2/
CATEGORIES:AR USA,Peacemaker Training
END:VEVENT
BEGIN:VEVENT
DTSTART;TZID=UTC:20181209T100000
DTEND;TZID=UTC:20181209T160000
DTSTAMP:20260420T153607
CREATED:20181112T201239Z
LAST-MODIFIED:20181112T201239Z
UID:5523-1544349600-1544371200@www.abrahamicreunion.org
SUMMARY:One Day Peacemaker Training with Sheikh Ghassan Manasra
DESCRIPTION:Sheikh Ghassan Manasra\, the International Director of the Abrahamic Reunion\, will be offering a one day\, interactive training for people who want to learn how to: \n• Bring together a multi-faith community and become a peacemaker\n• Facilitate discussions in large and small groups of different cultures and faiths\n• Build a group for comparative text study and dialogue \nVenue: 2A Prebend St\, Islington London\, N1 8PT\nCost: £65. Concessions available\nDecember 9th\, 10 am – 4 pm\nContact: Amanda Kenton\, england@abrahamicreunion.org \nwww.abrahamicreunionengland.org  \nSpace is strictly limited; prior booking required \n  \nWho We Are: The Abrahamic Reunion is an organisation dedicated to building bridges and generating connection and understanding between people from diverse religious and cultural communities. Its unique methods are used in prisons\, schools\, community centers\, religious institutions\, and even by people in their own homes to bring together children\, youth\, adults\, and families from different communities\, to know one another and create bonds of empathy. \nBio: Ghassan Manasra is an Arab Israeli who is a globally recognized and respected expert in Interreligious Dialogue and Facilitation. He is a Fulbright Scholar\, and an Arabic and Hebrew scholar who offers international presentations on Middle Eastern topics and issues. He was the recipient of the 2014 Outstanding Leader in Interreligious Dialogue Award from Temple University (USA). He is also a trusted advisor to heads of state in the Middle East\, Europe\, and North America. Ghassan has worked with individuals\, communities\, and governments in times of crisis and in times of peace. His methods have been honed over the last 30 years to the point where he now uses his experience to train others.
URL:https://www.abrahamicreunion.org/event/one-day-peacemaker-training-with-sheikh-ghassan-manasra/
CATEGORIES:AR UK,Peacemaker Training
END:VEVENT
BEGIN:VEVENT
DTSTART;TZID=UTC:20181209T100000
DTEND;TZID=UTC:20181209T160000
DTSTAMP:20260420T153607
CREATED:20181112T201239Z
LAST-MODIFIED:20181112T201239Z
UID:8030-1544349600-1544371200@www.abrahamicreunion.org
SUMMARY:One Day Peacemaker Training with Sheikh Ghassan Manasra
DESCRIPTION:Sheikh Ghassan Manasra\, the International Director of the Abrahamic Reunion\, will be offering a one day\, interactive training for people who want to learn how to: \n• Bring together a multi-faith community and become a peacemaker\n• Facilitate discussions in large and small groups of different cultures and faiths\n• Build a group for comparative text study and dialogue \nVenue: 2A Prebend St\, Islington London\, N1 8PT\nCost: £65. Concessions available\nDecember 9th\, 10 am – 4 pm\nContact: Amanda Kenton\, england@abrahamicreunion.org \nwww.abrahamicreunionengland.org  \nSpace is strictly limited; prior booking required \n  \nWho We Are: The Abrahamic Reunion is an organisation dedicated to building bridges and generating connection and understanding between people from diverse religious and cultural communities. Its unique methods are used in prisons\, schools\, community centers\, religious institutions\, and even by people in their own homes to bring together children\, youth\, adults\, and families from different communities\, to know one another and create bonds of empathy. \nBio: Ghassan Manasra is an Arab Israeli who is a globally recognized and respected expert in Interreligious Dialogue and Facilitation. He is a Fulbright Scholar\, and an Arabic and Hebrew scholar who offers international presentations on Middle Eastern topics and issues. He was the recipient of the 2014 Outstanding Leader in Interreligious Dialogue Award from Temple University (USA). He is also a trusted advisor to heads of state in the Middle East\, Europe\, and North America. Ghassan has worked with individuals\, communities\, and governments in times of crisis and in times of peace. His methods have been honed over the last 30 years to the point where he now uses his experience to train others.
URL:https://www.abrahamicreunion.org/event/one-day-peacemaker-training-with-sheikh-ghassan-manasra-2/
CATEGORIES:AR UK,Peacemaker Training
END:VEVENT
BEGIN:VEVENT
DTSTART;TZID=UTC:20181005T140000
DTEND;TZID=UTC:20181007T170000
DTSTAMP:20260420T153607
CREATED:20180731T004159Z
LAST-MODIFIED:20180731T004159Z
UID:8019-1538748000-1538931600@www.abrahamicreunion.org
SUMMARY:Three Day Peacemaker Training with Sheikh Ghassan Manasra
DESCRIPTION:Sheikh Ghassan Manasra\, the International Director of the Abrahamic Reunion\, will be offering a three day interactive training for people who want to learn how to: \n• Bring together a multi-faith community and become a peacemaker\n• Facilitate discussions in large and small groups of different cultures and faiths\n• Build a group for comparative text study and dialogueLocation: Universal Retreat Center\n2341 Arden Drive\, Sarasota\, FL 34232\nTuition: $150 – $275 Sliding Scale\, Pay what you are able (Includes 2 meals/day)\nOvernight Accommodations: $150\nDeposit of $100 due upon registration\nContact: Katie Emmons katie@abrahamicreunion.org \nwww.abrahamicreunion.org  \n  \n  \nWho We Are: The Abrahamic Reunion is an organization dedicated to building bridges and generating connection and understanding between people from diverse religious and cultural communities. Its unique methods are used in prisons\, schools\, community centers\, religious institutions\, and even by people in their own homes to bring together children\, youth\, adults\, and families from different communities\, to know one another and create bonds of empathy. \nBio: Ghassan Manasra is an Arab Israeli who is a globally recognized and respected expert in Interreligious Dialogue and Facilitation. He is a Fulbright Scholar\, and an Arabic and Hebrew scholar who offers international presentations on Middle Eastern topics and issues. He was the recipient of the 2014 Outstanding Leader in Interreligious Dialogue Award from Temple University (USA). He is also a trusted advisor to heads of state in the Middle East\, Europe\, and North America. Ghassan has worked with individuals\, communities\, and governments in times of crisis and in times of peace. His methods have been honed over the last 30 years to the point where he now uses his experience to train others. \n  \n  \nPAYMENT & REGISTRATION\nChecks can be mailed to 2372 Arden Drive\, Sarasota\, FL 34232\, made out to the Abrahamic Reunion. \nPlease RSVP as there are limited places available\, to katie@abrahamicreunion.org \n\n\n \n\n\n\nDeposit or Payment\n\n\nTuition Deposit $100.00 USDFull Tuition $275.00 USDTuition + Housing $425.00 USD\n\n\n\n\n \n\n 
URL:https://www.abrahamicreunion.org/event/three-day-peacemaker-training-with-sheikh-ghassan-manasra-2/
CATEGORIES:AR USA,Peacemaker Training
END:VEVENT
BEGIN:VEVENT
DTSTART;TZID=UTC:20181005T140000
DTEND;TZID=UTC:20181007T170000
DTSTAMP:20260420T153607
CREATED:20180731T004159Z
LAST-MODIFIED:20180731T004159Z
UID:4983-1538748000-1538931600@www.abrahamicreunion.org
SUMMARY:Three Day Peacemaker Training with Sheikh Ghassan Manasra
DESCRIPTION:Sheikh Ghassan Manasra\, the International Director of the Abrahamic Reunion\, will be offering a three day interactive training for people who want to learn how to: \n• Bring together a multi-faith community and become a peacemaker\n• Facilitate discussions in large and small groups of different cultures and faiths\n• Build a group for comparative text study and dialogueLocation: Universal Retreat Center\n2341 Arden Drive\, Sarasota\, FL 34232\nTuition: $150 – $275 Sliding Scale\, Pay what you are able (Includes 2 meals/day)\nOvernight Accommodations: $150\nDeposit of $100 due upon registration\nContact: Katie Emmons katie@abrahamicreunion.org \nwww.abrahamicreunion.org  \n  \n  \nWho We Are: The Abrahamic Reunion is an organization dedicated to building bridges and generating connection and understanding between people from diverse religious and cultural communities. Its unique methods are used in prisons\, schools\, community centers\, religious institutions\, and even by people in their own homes to bring together children\, youth\, adults\, and families from different communities\, to know one another and create bonds of empathy. \nBio: Ghassan Manasra is an Arab Israeli who is a globally recognized and respected expert in Interreligious Dialogue and Facilitation. He is a Fulbright Scholar\, and an Arabic and Hebrew scholar who offers international presentations on Middle Eastern topics and issues. He was the recipient of the 2014 Outstanding Leader in Interreligious Dialogue Award from Temple University (USA). He is also a trusted advisor to heads of state in the Middle East\, Europe\, and North America. Ghassan has worked with individuals\, communities\, and governments in times of crisis and in times of peace. His methods have been honed over the last 30 years to the point where he now uses his experience to train others. \n  \n  \nPAYMENT & REGISTRATION\nChecks can be mailed to 2372 Arden Drive\, Sarasota\, FL 34232\, made out to the Abrahamic Reunion. \nPlease RSVP as there are limited places available\, to katie@abrahamicreunion.org \n\n\n \n\n\n\nDeposit or Payment\n\n\nTuition Deposit $100.00 USDFull Tuition $275.00 USDTuition + Housing $425.00 USD\n\n\n\n\n \n\n 
URL:https://www.abrahamicreunion.org/event/three-day-peacemaker-training-with-sheikh-ghassan-manasra/
CATEGORIES:AR USA,Peacemaker Training
END:VEVENT
BEGIN:VEVENT
DTSTART;TZID=UTC:20180830T080000
DTEND;TZID=UTC:20180909T170000
DTSTAMP:20260420T153607
CREATED:20180731T005209Z
LAST-MODIFIED:20180731T005209Z
UID:8020-1535616000-1536512400@www.abrahamicreunion.org
SUMMARY:Sheikh Ghassan Peacebuilding in Germany
DESCRIPTION:Multiple gatherings are organized in Germany including a workshop at Benedictushof Sept 2nd featuring Sheikh Ghassan Manasra & Rabbi Mordechai Zeller for a one-day training. \nEvents open to the public:  \n\nSept 2nd: Benedictushof 1/2-day workshop with Sheikh Ghassan & Rabbi Mordechai Zeller: “Creating Peace in Me”\nSept 4th: Evening Program in Wetzlar\n\nContact: germany@abrahamicreunion.org
URL:https://www.abrahamicreunion.org/event/sheikh-ghassan-peacebuilding-in-germany-2/
CATEGORIES:AR Germany,Interfaith Meeting,Peacemaker Training
END:VEVENT
BEGIN:VEVENT
DTSTART;TZID=UTC:20180830T080000
DTEND;TZID=UTC:20180909T170000
DTSTAMP:20260420T153607
CREATED:20180731T005209Z
LAST-MODIFIED:20180731T005209Z
UID:4991-1535616000-1536512400@www.abrahamicreunion.org
SUMMARY:Sheikh Ghassan Peacebuilding in Germany
DESCRIPTION:Multiple gatherings are organized in Germany including a workshop at Benedictushof Sept 2nd featuring Sheikh Ghassan Manasra & Rabbi Mordechai Zeller for a one-day training. \nEvents open to the public:  \n\nSept 2nd: Benedictushof 1/2-day workshop with Sheikh Ghassan & Rabbi Mordechai Zeller: “Creating Peace in Me”\nSept 4th: Evening Program in Wetzlar\n\nContact: germany@abrahamicreunion.org
URL:https://www.abrahamicreunion.org/event/sheikh-ghassan-peacebuilding-in-germany/
CATEGORIES:AR Germany,Interfaith Meeting,Peacemaker Training
END:VEVENT
END:VCALENDAR