BEGIN:VCALENDAR
VERSION:2.0
PRODID:-//Abrahamic Reunion - ECPv6.15.20//NONSGML v1.0//EN
CALSCALE:GREGORIAN
METHOD:PUBLISH
X-WR-CALNAME:Abrahamic Reunion
X-ORIGINAL-URL:https://www.abrahamicreunion.org
X-WR-CALDESC:Events for Abrahamic Reunion
REFRESH-INTERVAL;VALUE=DURATION:PT1H
X-Robots-Tag:noindex
X-PUBLISHED-TTL:PT1H
BEGIN:VTIMEZONE
TZID:UTC
BEGIN:STANDARD
TZOFFSETFROM:+0000
TZOFFSETTO:+0000
TZNAME:UTC
DTSTART:20220101T000000
END:STANDARD
END:VTIMEZONE
BEGIN:VEVENT
DTSTART;TZID=UTC:20230719T110000
DTEND;TZID=UTC:20230719T110000
DTSTAMP:20260422T113423
CREATED:20230718T215922Z
LAST-MODIFIED:20230718T230031Z
UID:9709-1689764400-1689764400@www.abrahamicreunion.org
SUMMARY:Prayer Vigil for the Holy Land
DESCRIPTION:10 Minutes of Prayer for Peace & Compassion\nFeaturing a different Palestinian or Israeli peace leader each Vigil – all faiths and people welcome.\nHosted by International Director Sheikh Ghassan Manasra\n \n1st & 3rd Wednesdays\n11am\n\n\n\n\n2023 Schedule:\n1st & 3rd Wednesdays of the Month\, 11am ET\n\n\nWe’re Adding a 2nd Time for the Prayer Vigil\nTo create space for more people to join us for the Prayer Vigil\, we are adding a 2nd time — 8pm EST — so that those who can’t join earlier have the opportunity to be part of our peace prayer vigil. We’ll host the session live\, play music as you enter\, and show the morning’s prayer.\nRecordings\nThe Vigils will continue to be uploaded to our YouTube Channel as well.\nFriends of the Vigil\n Easton\, MA\, USA \n\n\n  \n\nLake Worth\nInterfaith Network\nLake Worth\, FL\n\n \nHavurah\nShir Hadash\nA Jewish Renewal Community\nin Ashland\, OR\n\n\n\nBecome Friend of the Vigil:\n\nHave your Congregation or Organization’s Logo listed on the Prayer Vigil Announcements & Website.\nForward this email and future vigil announcements to your congregation / organization / group.\nConfirm and send your logo to chris@abrahamicreunion.org\n\n\n\nEmail: info@abrahamicreunion.org for help joining\n\nDear Friends of Peace\,\nThe conflict in the Holy Land is breaking so many hearts right now\, and no eye can be dry when aware of the level of pain\, suffering\, and destruction occurring in this sacred place.\nIt is incumbent on those who are in any way connected with the Abrahamic Reunion to use our most powerful force\, which is praying together for peace and compassion.\nWe have continually affirmed that religions\, coming together in the name of peace\, are a most potent force in awakening us to our connection with each other.\nIt is time for us to unite and use the power of prayer to reawaken the sleeping consciousness of those who are calling for more pain and more destruction and ask them\, through the power of peaceful prayer\, to cease hostilities and affirm the relationship of all human beings in the family of humanity.\nTowards that end we are initiating a prayer vigil every day to connect people of conscience with each other and magnetize the prayer for peace in unison with the will of God to create a truly holy and peaceful land.\nWe are all witnessing the powerful destruction and pain unleashed by human beings responding to emotional upheaval with violence.\nThe peace we are praying for is the power that can shift the balance in the Holy Land towards a gentle\, humane\, and just settlement amongst all aggrieved parties.\nPlease come and pray with us.\n\nThank you\,\n\nDavid Less\nChairman of the Board\nAbrahamic Reunion USA dance
URL:https://www.abrahamicreunion.org/event/prayer-vigil-for-the-holy-land-17/
CATEGORIES:AR Holy Land,AR USA,Interfaith Meeting,Online,Prayer
END:VEVENT
BEGIN:VEVENT
DTSTART;TZID=UTC:20230724T120000
DTEND;TZID=UTC:20230724T130000
DTSTAMP:20260422T113423
CREATED:20230724T145914Z
LAST-MODIFIED:20230724T145914Z
UID:9724-1690200000-1690203600@www.abrahamicreunion.org
SUMMARY:Call for 5-10 Min Of Prayer 12 ET July 24th -- During Piyyutim Sacred Chanting\, Poetry\, and Prayer Mixed Event
DESCRIPTION:Urgent Call For Prayer Wherever You Are (No Zoom)\nToday At 12pm ET During the AR’s Sacred Chanting Event in Jerusalem\nFrom David Less\nJuly 24th\, 2023 \n\n\nDear Friends\,\n\nThe situation in Israel and Palestine has become increasingly difficult and quite dangerous for the peace of the world.\n\nToday at 12 noon Eastern time\, the members of the Abrahamic Reunion will meet in Jerusalem for a prayer and chanting mixed event which will be open to the public.\n\nI am hoping that everyone can join in wherever they are and add five or 10 minutes of prayer to our dear and brave friends in Israel and Palestine.\n\nI am going to let them know that there are many people around the world who will be joining them.  Please just take a few minutes wherever you are at noon Eastern time to add your inner voice to the cry for peace.\n\nThere will be no Zoom call.  There will be no outer way of connecting.  Everybody is responsible for connecting on the inners.\n\n\n\nWith deep gratitude\,\n\nShahabuddin\n\n\n\n\nJerusalem Event Details\n\nPiyyutim Interfaith Prayer\, Poetry\, and Chanting Event Details:\nFeaturing Dr. Khalid Abu Ras\, Anat Lev Or\, Sheikh Helme Hamad\, and Roie Kleitman\n\n \nThe “faithful left” and the Abrahamic Reunion invites to a circle of chanting\, lamentation and awakening in preparation for T’Bav with words of Michal Tsarnovitsky\, Rabbi Leah Shakdiel\, Poems and laments of Nadav Cohen\, Orshu\, Emanuel and the Kisupim and members of the Qadri Sufi Order.\n\nDate (July 24\, Fri Bav Tashpag\, 19:00\, Finnish Center in Jerusalem\, 25 Tribes of Israel\n\n*The event is without musical instruments\n\n\nהשמאל האמוני והאיחוד האברהמי מזמין\nלמעגל קינות והתעוררות לקראת ט’ באב\nעם מילים של\nמיכל צרנוביצקי\, הרבנית לאה שקדיאל\nפיוטים וקינות של\nנדב כהן\, אורשו\, עמנואל והכיסופים וחברים מהמסדר הסופי הקאדרי\nתאריך (24 ביולי\, ו’ באב תשפ”ג\, 19:00\, המרכז הפיני בירושלים\, שבטי ישראל 25\n\n*הערב ללא כלים מוסיקלים\n\n\n\n\n\n\n\n\n\n\n\n\n\n\n\nThe Abrahamic Reunion\n\n\n\n\n\n\n\n\n\n\n\n\n\n\n\nFounded by religious leaders and peacebuilders from the different Abrahamic Faiths of the Holy Land\, the Abrahamic Reunion has been dedicated to ending war and conflict in Israel and Palestine since 2004 by building understanding\, connection\, and relationships across cultures and religions. https://www.abrahamicreunion.org/\n\n\n\n\n\n\n\n\n\n\n\n\n\n\n\n\n\n\n\n\n\n\n\n\n\n\n\n\n\n\n\nThe Abrahamic Reunion is supported by people who believe in people-to-people peacebuilding programs for long-term changemaking in in the Holy Land. Thanks to all our supporters! If you would like to support our work\, please click here.
URL:https://www.abrahamicreunion.org/event/call-for-5-10-min-of-prayer-12-et-july-24th-during-piyyutim-sacred-chanting-poetry-and-prayer-mixed-event/
CATEGORIES:AR Germany,AR Holy Land,AR UK,AR USA,Interfaith Meeting,Prayer,Spiritual Gathering
END:VEVENT
END:VCALENDAR