BEGIN:VCALENDAR
VERSION:2.0
PRODID:-//Abrahamic Reunion - ECPv6.15.20//NONSGML v1.0//EN
CALSCALE:GREGORIAN
METHOD:PUBLISH
X-WR-CALNAME:Abrahamic Reunion
X-ORIGINAL-URL:https://www.abrahamicreunion.org
X-WR-CALDESC:Events for Abrahamic Reunion
REFRESH-INTERVAL;VALUE=DURATION:PT1H
X-Robots-Tag:noindex
X-PUBLISHED-TTL:PT1H
BEGIN:VTIMEZONE
TZID:UTC
BEGIN:STANDARD
TZOFFSETFROM:+0000
TZOFFSETTO:+0000
TZNAME:UTC
DTSTART:20220101T000000
END:STANDARD
END:VTIMEZONE
BEGIN:VEVENT
DTSTART;TZID=UTC:20230806T110000
DTEND;TZID=UTC:20230812T111500
DTSTAMP:20260422T113715
CREATED:20230803T173211Z
LAST-MODIFIED:20230806T142525Z
UID:9737-1691319600-1691838900@www.abrahamicreunion.org
SUMMARY:7 Day Prayer Vigil For The Holy Land
DESCRIPTION:URGENT CALL TO PRAYER\nFOR PEOPLE OF ALL FAITHS\nFOR PEACE IN THE HOLY LAND\n  \n1 Week Of Daily Prayer Vigils\n10 Minute of Peace & Compassion\n \nAugust 6 – 13\, 11am ET / 6pm Holy Land\nLed by Different Leaders Each Day: Muslim\, Jewish\, Christian\, and Druze\nHosted by Sheikh Ghassan Manasra\, AR International Director\n\n\n\n\n\n\nDear Friends of Peace\, \nThe Holy Land is in a critical level of upheaval and needs prayers and support. During previous spells of increased violence\, the Abrahamic Reunion has convened daily Prayer Vigils to strengthen the community of peace\, which has successfully kept hope and the work for peace alive. \nWe come together once again in this time of difficulty and call upon you to help us bolster the field and community of peace through our collective prayer\, thought\, and concentration. \nVIGIL Schedule:\n\nSunday\, August 6th: Shirin Elqayam\, Tel Aviv\nMonday\, August 7th: Rabbi Dahlia Shakham or Zeynab Manasra\nTuesday\, August 8th: Odalih Matar\, Jewish Youth Peacebuilder\, Jerusalem\nWednesday\, August 9th: Ichlas Ghadban\, Druze Leader\, Daliat al-Carmel\nThursday\, August 10th: TBA\nFriday\, August 11th: Rabbi Taya Shir\, USA\nSaturday\, August 12th: Group Of Many Leaders\n\nEach Prayer Hosted by Sheikh Ghassan Manasra\, with AR Co-Founder David Less\nThe Zoom Room opens 5-10 minutes before the hour\, with contemplative music. Each Vigil lasts 10-15 minutes\, and is followed by music.\n\nWe hope you will join us — Thank you for being with us\, \nPeace\, Salaam\, Shalom \nSheikh Ghassan Manasra\, David Less\, and the Peacemakers of the Abrahamic Reunion \nZoom Join Link Click Here: \n\n\n\n\n\n\nINFO: chris@abrahamicreunion.org\, www.abrahamicreunion.org \nDONATIONS: www.abrahamicreunion.org/donate \n  \n \n\n\n\n\n\n\n\n\n\n\n\nسبعة أيام الصلاة والدعاء من أجل الأرض المقدسة\nإعلان عن أمسيات الصلاة من أجل الأرض المقدسة\n\nنداء عاجل للصلاة لجميع المؤمنين\nمن أجل السلام في الأرض المقدسة\n١٠ دقائق من السلام والرحمة، يقودها قادة مختلفون في كل يوم:\nمسلمون ويهود ومسيحيون ودروز\n\nأغسطس 6 – 12\n11:00 صباحا بتوقيت شرقي الولايات المتحدة\n18:00 مساء بتوقيت الأرض المقدسة\nيستضيف الأمسيات المدير الدولي ل AR، السيد غسان مناصرة\n\n  \n \n \n 
URL:https://www.abrahamicreunion.org/event/7-day-prayer-vigil-for-the-holy-land/
LOCATION:Zoom\, FL\, United States
CATEGORIES:AR Holy Land,AR USA,Interfaith Meeting,Online,Prayer,Spiritual Gathering
END:VEVENT
END:VCALENDAR