BEGIN:VCALENDAR
VERSION:2.0
PRODID:-//Abrahamic Reunion - ECPv6.15.19//NONSGML v1.0//EN
CALSCALE:GREGORIAN
METHOD:PUBLISH
X-ORIGINAL-URL:https://www.abrahamicreunion.org
X-WR-CALDESC:Events for Abrahamic Reunion
REFRESH-INTERVAL;VALUE=DURATION:PT1H
X-Robots-Tag:noindex
X-PUBLISHED-TTL:PT1H
BEGIN:VTIMEZONE
TZID:UTC
BEGIN:STANDARD
TZOFFSETFROM:+0000
TZOFFSETTO:+0000
TZNAME:UTC
DTSTART:20250101T000000
END:STANDARD
END:VTIMEZONE
BEGIN:VEVENT
DTSTART;TZID=UTC:20260420T110000
DTEND;TZID=UTC:20260423T120000
DTSTAMP:20260420T080528
CREATED:20240904T173618Z
LAST-MODIFIED:20260419T152748Z
UID:10808-1776682800-1776945600@www.abrahamicreunion.org
SUMMARY:Prayer Vigil for Peace in the Holy Land & Middle East
DESCRIPTION:Starts Monday\, April 20th\, 11am EDT\n\n\nFeaturing different Palestinian and/or Israeli peace leaders each Vigil – all faiths and people welcome.\n  \nHosted by International Director Sheikh Ghassan Manasra\n \n\n\n\nRecordings\nThe Vigils will continue to be uploaded to our YouTube Channel as well.\nSUPPORT PEACE CLICK HERE\nPrayer vigil for peace in Israel/Palestine\, Featuring different Palestinian and/or Israeli peace leaders each Vigil – all faiths and people welcome. \nWe join our hearts\, minds\, and spirits across the world in connection for the manifestation of The Day After The War\, for peace and safety for all people in the Holy Land\, an end to the killing and bloodshed\, and healing. \nHosted by International Director Sheikh Ghassan Manasra\, with Co-Founder David Less \n  \nWAYS TO SUPPORT PEACE RIGHT NOW\nDONATE to support the peacemakers: https://form-renderer-app.donorperfect.io/give/abrahamic-reunion/website-donations-copy \nINTERNATIONAL DONATION LINK: https://interland3.donorperfect.net/weblink/WebLink.aspx?name=E352158&id=1 \nThank you for supporting!! \nPAYPAL to theabrahamicreunion@gmail.com \nCONNECT on Instagram and Facebook and share posts to help spread the word.  \nINVITE Friends to the Prayer Vigil to be together: https://www.abrahamicreunion.org/event/ \nSUBSCRIBE to the AR Newsletter: https://www.abrahamicreunion.org/subscribe-to-our-newsletter/ \nPRAY Keep peace\, the Israelies\, Palestinians\, Gazans\, and especially the peacemakers in your daily prayers\, for peace\, protection\, and safety. And join us for the Prayer Vigil – Zoom Join Link Click Below \nEmail: info@abrahamicreunion.org for help joining\n\n\n\n\n\n\n\n\nFriends of the Vigil\n\n\n\n\n\n\n\n\n\n\n\n\n\n\n\n\n\n\n\n\n\n\n\n\n\n\n\n\n\n\n\n\n\n\n\n\n\n\n\n\n\n\n\n\n\n\n\n\n\n\n\n\n\n\n\nHavurah Shir Hadash\, Ashland\, OR\n\n\n\n\n\n\n\n\n\n\n\n\n\n\n\n\n\n\n\n\n\n\n\n\n\n\n\n\n\n\n\n\n\nBecome Friend of the Vigil:\n\nHave your Congregation or Organization’s Logo listed on the Prayer Vigil Announcements & Website.\nForward this email and future vigil announcements to your congregation / organization / group\, post to social media\, and/or post on your website.\nConfirm and send your logo to chris@abrahamicreunion.org\n\n\n\n\n\n\n\n\n\n\n\n\n\n\n\n\n\nSponsor a Vigil:\n\nHave your Congregation or Organization’s Logo listed on the Prayer Vigil Announcements & Website with special featuring and mention for the vigil that you sponsor.\nForward this email and future vigil announcements to your congregation / organization / group\, post to social media\, and/or post on your website.\nDonation of $2\,000 USD.\nConfirm and send your logo to chris@abrahamicreunion.org. Call 941-993-9994 for details.\n\n\n\n\n\n\n\n\n\n\n\n\n\n\n\n\n\n\n\n\n\n\n\n\n\n\n\n\n\n\n\n\n\n\n\n\n\n\n\nDear Friends of Peace\,\nThe conflict in the Holy Land and Middle East is breaking so many hearts right now\, and no eye can be dry when aware of the level of pain\, suffering\, and destruction occurring in this sacred place.\nIt is incumbent on those who are in any way connected with the Abrahamic Reunion to use our most powerful force\, which is praying together for peace and compassion.\nWe have continually affirmed that religions\, coming together in the name of peace\, are a most potent force in awakening us to our connection with each other.\nIt is time for us to unite and use the power of prayer to reawaken the sleeping consciousness of those who are calling for more pain and more destruction and ask them\, through the power of peaceful prayer\, to cease hostilities and affirm the relationship of all human beings in the family of humanity.\nTowards that end we are initiating a prayer vigil every day to connect people of conscience with each other and magnetize the prayer for peace in unison with the will of God to create a truly holy and peaceful land.\nWe are all witnessing the powerful destruction and pain unleashed by human beings responding to emotional upheaval with violence.\nThe peace we are praying for is the power that can shift the balance in the Holy Land towards a gentle\, humane\, and just settlement amongst all aggrieved parties.\nPlease come and pray with us.\n\nThank you\,\n\nDavid Less\nChairman of the Board\nAbrahamic Reunion USA dance
URL:https://www.abrahamicreunion.org/event/interfaith-prayer-vigil-for-peace-in-the-holy-land/
LOCATION:Zoom\, FL\, United States
CATEGORIES:AR Germany,AR Holy Land,AR UK,AR USA,Online,Prayer
END:VEVENT
END:VCALENDAR