BEGIN:VCALENDAR
VERSION:2.0
PRODID:-//Abrahamic Reunion - ECPv6.15.20//NONSGML v1.0//EN
CALSCALE:GREGORIAN
METHOD:PUBLISH
X-WR-CALNAME:Abrahamic Reunion
X-ORIGINAL-URL:https://www.abrahamicreunion.org
X-WR-CALDESC:Events for Abrahamic Reunion
REFRESH-INTERVAL;VALUE=DURATION:PT1H
X-Robots-Tag:noindex
X-PUBLISHED-TTL:PT1H
BEGIN:VTIMEZONE
TZID:UTC
BEGIN:STANDARD
TZOFFSETFROM:+0000
TZOFFSETTO:+0000
TZNAME:UTC
DTSTART:20250101T000000
END:STANDARD
END:VTIMEZONE
BEGIN:VEVENT
DTSTART;TZID=UTC:20260424T045239
DTEND;TZID=UTC:20260424T045239
DTSTAMP:20260424T045239
CREATED:20141208T223115Z
LAST-MODIFIED:20141208T223115Z
UID:1294-1777006359-1777006359@www.abrahamicreunion.org
SUMMARY:Harmony in the Middle East
DESCRIPTION:
URL:https://www.abrahamicreunion.org/event/harmony-in-the-middle-east/
ATTACH;FMTTYPE=:
END:VEVENT
END:VCALENDAR