BEGIN:VCALENDAR
VERSION:2.0
PRODID:-//Abrahamic Reunion - ECPv6.15.20//NONSGML v1.0//EN
CALSCALE:GREGORIAN
METHOD:PUBLISH
X-ORIGINAL-URL:https://www.abrahamicreunion.org
X-WR-CALDESC:Events for Abrahamic Reunion
REFRESH-INTERVAL;VALUE=DURATION:PT1H
X-Robots-Tag:noindex
X-PUBLISHED-TTL:PT1H
BEGIN:VTIMEZONE
TZID:UTC
BEGIN:STANDARD
TZOFFSETFROM:+0000
TZOFFSETTO:+0000
TZNAME:UTC
DTSTART:20250101T000000
END:STANDARD
END:VTIMEZONE
BEGIN:VEVENT
DTSTART;TZID=UTC:20260430T190000
DTEND;TZID=UTC:20260430T203000
DTSTAMP:20260423T111422
CREATED:20260421T152704Z
LAST-MODIFIED:20260421T152704Z
UID:11663-1777575600-1777581000@www.abrahamicreunion.org
SUMMARY:Online Interreligious Dialogue Circle: "Humility & Empathetic Listening"
DESCRIPTION:Peace Through Understanding:\nKnowing ‘The Other’ via Interreligious Dialogue\nMonthly Topic: “Humility & Empathetic Listening”\nJewish\, Muslim\, Christian\, & Baha’i Insights \nThursday\, April 30th\, 7pm ET \nZoom Link Click Here\nFormat: \nThis series features presentations from each religious tradition for 5-10 minutes per presenter\, small-group discussions\, followed by a full-group reflection and discussion of the theme. \nPlease come ready to dialogue with an open mind\, and learn about others’ practices and beliefs. \nThis is a welcoming space where we learn more deeply about our own traditions and selves by learning about each other’s perspectives and traditions on common stories\, themes\, and practices. \nBy knowing each other’s traditions\, we dismantle separation\, fear of the unknown\, misconception\, and create a more connected\, understanding\, and inclusive world. All Welcome– Peace starts with each of us! \nRECORDINGS of past Text Study Sessions now available on the AR Website and Youtube. \nWith Sheikh Abd Alsalam Manasra of Rising Tide International\, Ted Brownstein of Lake Worth Interfaith Network\, Rev. David Grishaw-Jones\, Rebeckah Dickerson of Templa Adath Or\, Chris Miller of Abrahamic Reunion\, and Friends \nContact: theabrahamicreunion@gmail.com
URL:https://www.abrahamicreunion.org/event/online-interreligious-dialogue-circle-humility-empathetic-listening/
LOCATION:Zoom\, FL\, United States
END:VEVENT
END:VCALENDAR