BEGIN:VCALENDAR
VERSION:2.0
PRODID:-//Abrahamic Reunion - ECPv6.15.20//NONSGML v1.0//EN
CALSCALE:GREGORIAN
METHOD:PUBLISH
X-ORIGINAL-URL:https://www.abrahamicreunion.org
X-WR-CALDESC:Events for Abrahamic Reunion
REFRESH-INTERVAL;VALUE=DURATION:PT1H
X-Robots-Tag:noindex
X-PUBLISHED-TTL:PT1H
BEGIN:VTIMEZONE
TZID:America/New_York
BEGIN:DAYLIGHT
TZOFFSETFROM:-0500
TZOFFSETTO:-0400
TZNAME:EDT
DTSTART:20210314T070000
END:DAYLIGHT
BEGIN:STANDARD
TZOFFSETFROM:-0400
TZOFFSETTO:-0500
TZNAME:EST
DTSTART:20211107T060000
END:STANDARD
BEGIN:DAYLIGHT
TZOFFSETFROM:-0500
TZOFFSETTO:-0400
TZNAME:EDT
DTSTART:20220313T070000
END:DAYLIGHT
BEGIN:STANDARD
TZOFFSETFROM:-0400
TZOFFSETTO:-0500
TZNAME:EST
DTSTART:20221106T060000
END:STANDARD
BEGIN:DAYLIGHT
TZOFFSETFROM:-0500
TZOFFSETTO:-0400
TZNAME:EDT
DTSTART:20230312T070000
END:DAYLIGHT
BEGIN:STANDARD
TZOFFSETFROM:-0400
TZOFFSETTO:-0500
TZNAME:EST
DTSTART:20231105T060000
END:STANDARD
END:VTIMEZONE
BEGIN:VEVENT
DTSTART;TZID=America/New_York:20220202T110000
DTEND;TZID=America/New_York:20220202T111000
DTSTAMP:20260424T223126
CREATED:20220131T185826Z
LAST-MODIFIED:20220131T185826Z
UID:7555-1643799600-1643800200@www.abrahamicreunion.org
SUMMARY:Peace Prayer Vigil for Palestine & Israel
DESCRIPTION:10 Minutes of Prayer for Peace & Compassion\nFeaturing a different Palestinian or Israeli peace leader each Vigil – all faiths and people welcome.\nHosted by International Director Sheikh Ghassan Manasra\n \n1st & 3rd Wednesdays\n11am + 6pm EST\n\n\n\nWe’re Adding a 2nd Time for the Prayer Vigil\nTo create space for more people to join us for the Prayer Vigil\, we are adding a 2nd time — 6pm EST — so that those who can’t join earlier have the opportunity to be part of our peace prayer vigil.\nWe’ll host the session live\, play music as you enter\, and show the morning’s prayer. The Vigils will continue to be uploaded to our YouTube Channel as well.\n  \nEmail: info@abrahamicreunion.org for help joining\nFor video recordings of past Daily Prayer Vigils\, Click Here\n\n\nDear Friends of Peace\,\nThe conflict in the Holy Land is breaking so many hearts right now\, and no eye can be dry when aware of the level of pain\, suffering\, and destruction occurring in this sacred place.\nIt is incumbent on those who are in any way connected with the Abrahamic Reunion to use our most powerful force\, which is praying together for peace and compassion.\nWe have continually affirmed that religions\, coming together in the name of peace\, are a most potent force in awakening us to our connection with each other.\nIt is time for us to unite and use the power of prayer to reawaken the sleeping consciousness of those who are calling for more pain and more destruction and ask them\, through the power of peaceful prayer\, to cease hostilities and affirm the relationship of all human beings in the family of humanity.\nTowards that end we are initiating a prayer vigil every day to connect people of conscience with each other and magnetize the prayer for peace in unison with the will of God to create a truly holy and peaceful land.\nWe are all witnessing the powerful destruction and pain unleashed by human beings responding to emotional upheaval with violence.\nThe peace we are praying for is the power that can shift the balance in the Holy Land towards a gentle\, humane\, and just settlement amongst all aggrieved parties.\nPlease come and pray with us.\n\nThank you\,\n\nDavid Less\nChairman of the Board\nAbrahamic Reunion USA dance
URL:https://www.abrahamicreunion.org/event/peace-prayer-vigil-for-palestine-israel/
LOCATION:FL
END:VEVENT
BEGIN:VEVENT
DTSTART;TZID=America/New_York:20220202T180000
DTEND;TZID=America/New_York:20220202T181000
DTSTAMP:20260424T223126
CREATED:20220131T190317Z
LAST-MODIFIED:20220131T190317Z
UID:8086-1643824800-1643825400@www.abrahamicreunion.org
SUMMARY:Peace Prayer Vigil for Palestine & Israel
DESCRIPTION:10 Minutes of Prayer for Peace & Compassion\nFeaturing a different Palestinian or Israeli peace leader each Vigil – all faiths and people welcome.\nHosted by International Director Sheikh Ghassan Manasra\n \n1st & 3rd Wednesdays\n11am + 6pm EST\n\n\n\nWe’re Adding a 2nd Time for the Prayer Vigil\nTo create space for more people to join us for the Prayer Vigil\, we are adding a 2nd time — 6pm EST — so that those who can’t join earlier have the opportunity to be part of our peace prayer vigil.\nWe’ll host the session live\, play music as you enter\, and show the morning’s prayer. The Vigils will continue to be uploaded to our YouTube Channel as well.\n  \nEmail: info@abrahamicreunion.org for help joining\nFor video recordings of past Daily Prayer Vigils\, Click Here\n\n\nDear Friends of Peace\,\nThe conflict in the Holy Land is breaking so many hearts right now\, and no eye can be dry when aware of the level of pain\, suffering\, and destruction occurring in this sacred place.\nIt is incumbent on those who are in any way connected with the Abrahamic Reunion to use our most powerful force\, which is praying together for peace and compassion.\nWe have continually affirmed that religions\, coming together in the name of peace\, are a most potent force in awakening us to our connection with each other.\nIt is time for us to unite and use the power of prayer to reawaken the sleeping consciousness of those who are calling for more pain and more destruction and ask them\, through the power of peaceful prayer\, to cease hostilities and affirm the relationship of all human beings in the family of humanity.\nTowards that end we are initiating a prayer vigil every day to connect people of conscience with each other and magnetize the prayer for peace in unison with the will of God to create a truly holy and peaceful land.\nWe are all witnessing the powerful destruction and pain unleashed by human beings responding to emotional upheaval with violence.\nThe peace we are praying for is the power that can shift the balance in the Holy Land towards a gentle\, humane\, and just settlement amongst all aggrieved parties.\nPlease come and pray with us.\n\nThank you\,\n\nDavid Less\nChairman of the Board\nAbrahamic Reunion USA dance
URL:https://www.abrahamicreunion.org/event/peace-prayer-vigil-for-palestine-israel-2/
LOCATION:FL
END:VEVENT
BEGIN:VEVENT
DTSTART;TZID=America/New_York:20220209T110000
DTEND;TZID=America/New_York:20220209T120000
DTSTAMP:20260424T223126
CREATED:20220201T102501Z
LAST-MODIFIED:20220201T102501Z
UID:8089-1644404400-1644408000@www.abrahamicreunion.org
SUMMARY:The Prayer of Love - Unity Prayer from the Holy Land
DESCRIPTION:Featuring:\n\n\nDeacon Jiries Mansour\, Greek Melkite Church\n\n\nSheikha Najah Kabaha\, Sufi Muslim\, Nazareth\n\n\nRabbi Shlomo Dov Rosen\, Yakar Jerusalem\n\n\nHanan Halabi\, Druze Youth Leader\n\n\n& Hosted by Sheikh Ghassan Manasra & David Less\n\n“Love your neighbor as yourself” (Leviticus 19:18)\n“And My Mercy encompasses everything.” (Surah Al-A’raf\, 7:156)\n“God is love\, and whoever abides in love abides in God\, and God abides in him.” (1 John 4:16)\n\nPlease Register (for free) in advance Registration / RSVP via Eventbrite.\nIf you have trouble with Eventbrite\, please simply email Chris@AbrahamicReunion.org.\n \nJoin the Abrahamic Reunion for an hour of connection with courageous peacebuilders and spiritual luminaries from Palestine and Israel\, who will share prayers\, inspiration\, and reflections on the theme of giving and generosity.\n\nGroup prayer has a powerful effect. This is true not only for Israel and Palestine\, but throughout the world. Communal prayer and meditation\, with a focus on the common good\, can create the shift in consciousness that we all seek.\n\nAt each Online Unity Prayer for the Holy Land\, religious leaders and holy peacemakers in Israel and Palestine will join together on zoom and lead 45 minutes of prayer in the spirit of interconnection and peace.\n\nDavid Less\, AR Board Chairman\, and Sheikh Ghassan Manasra\, AR International Director host each Unity Prayer’s Muslim\, Jewish\, Christian\, and Druze prayer leaders – women\, men\, and youth.\n\nPlease join us. The addition of your prayer energy will help build the change we all seek.\n\nPeace\, Salaam\, Shalom\n\nBios\nDeacon Jiries Mansour\nDeacon Jiries Mansour is a Co-Founder of the Abrahamic Reunion\, a Christian Arab Deacon in the Greek Catholic Church\, and Principal of St Anthony’s middle school in the town of Rama (Rame) in the Galilee. Under Jiries’ leadership\, a new school has been developed in Rama promoting interfaith tolerance. He has also organized numerous youth interfaith projects and events\, and serves responsible for Christian Schools in the Ministry of Education. Jiries has his doctorate on the role of Christians in peace in the Middle East\, and is in the Ministry of Education overseeing Christian schools in Israel. \nSheikha Najah Kabaha\nSheikha Umm Bra’a Najah Kabaha is a leader in the Muslim community who lives in the city of Nazareth\, the largest Arab city in Israel. She has worked for interfaith understanding and dialogue through the Qadiri Tariqat as-Salaam\, the Lights of Peace Society\, and the Abrahamic Reunion for many years. She also teaches children and early childhood.\nRabbi Shlomo Dov Rosen\, Yakar Jerusalem\nHeads the Yakar Institute in Jerusalem\, and is the communal rabbi of the Yakar synagogue. He is also an associate fellow at the Truman Research Institute for the Advancement of Peace. His doctoral dissertation was on the metaphysical and theological foundations of social justice theory. He has taught for many years in religious institutions\, done interfaith work\, lectured widely in Philosophy\, and published in scholarly journals.\n Hanan Halabi\, Druze Youth Leader\nHanan is 19 years old\, from Daliat-Al Carmel in the North of Israel\, and a member of the Druze faith community. She is one of the young leaders of the interfaith movement in the Holy Land\, and she began walking this way of peace in high school. She is part of Abrahamic Reunion peace activities.\n\n\n\n\n  \n\n\n\n\n \nDavid Less\nAbrahamic Reunion US Board Chair \n\n\nDavid Less is a global teacher of meditation and interfaith dialog of over forty years. For over a decade he was the Global Dean of the Universal Worship\, an organization in over thirty countries\,that honors the commonality in all religions and appreciates and respects the differences. He started promoting understanding rather than blame as a path to peace in the Holy Land in 2000 and was one of the founders of the Abrahamic Reunion shortly thereafter.  To contact\, reach out to info@abrahamicreunion.org \n\n\n \nSheikh Ghassan Manasra\nAbrahamic Reunion International Director \n\n\nSheikh Ghassan Manasra was one of the Abrahamic Reunion’s Co-Coordinators in the Holy Land until moving to the US in 2015\, and has been an active contributing Peacemaker with the AR for more than a decade. He is an ordained Sheikh in the Qadiri Sufi Order in the Holy Land\, and son of Sheikh Abdel Salaam Manasra – head of the Qadiri Sufi Order in the Holy Land. He is the founder of Anwar-Il-Salaam\, the Lights of Peace Center in Nazareth\, and  is Director\, Islamic Cultural Center in Nazareth. Ghassan is an expert and lectures in Islam\, Islamic history\, Sufism\, and contemporary Muslim issues  in the Middle East\, Europe\, and the USA. Ghassan@abrahamicreunion.org
URL:https://www.abrahamicreunion.org/event/the-prayer-of-love-unity-prayer-from-the-holy-land/
LOCATION:FL
END:VEVENT
BEGIN:VEVENT
DTSTART;TZID=America/New_York:20220216T110000
DTEND;TZID=America/New_York:20220216T111000
DTSTAMP:20260424T223126
CREATED:20220131T190412Z
LAST-MODIFIED:20220131T190412Z
UID:8088-1645009200-1645009800@www.abrahamicreunion.org
SUMMARY:Peace Prayer Vigil for Palestine & Israel
DESCRIPTION:10 Minutes of Prayer for Peace & Compassion\nFeaturing a different Palestinian or Israeli peace leader each Vigil – all faiths and people welcome.\nHosted by International Director Sheikh Ghassan Manasra\n \n1st & 3rd Wednesdays\n11am + 6pm EST\n\n\n\nWe’re Adding a 2nd Time for the Prayer Vigil\nTo create space for more people to join us for the Prayer Vigil\, we are adding a 2nd time — 6pm EST — so that those who can’t join earlier have the opportunity to be part of our peace prayer vigil.\nWe’ll host the session live\, play music as you enter\, and show the morning’s prayer. The Vigils will continue to be uploaded to our YouTube Channel as well.\n  \nEmail: info@abrahamicreunion.org for help joining\nFor video recordings of past Daily Prayer Vigils\, Click Here\n\n\nDear Friends of Peace\,\nThe conflict in the Holy Land is breaking so many hearts right now\, and no eye can be dry when aware of the level of pain\, suffering\, and destruction occurring in this sacred place.\nIt is incumbent on those who are in any way connected with the Abrahamic Reunion to use our most powerful force\, which is praying together for peace and compassion.\nWe have continually affirmed that religions\, coming together in the name of peace\, are a most potent force in awakening us to our connection with each other.\nIt is time for us to unite and use the power of prayer to reawaken the sleeping consciousness of those who are calling for more pain and more destruction and ask them\, through the power of peaceful prayer\, to cease hostilities and affirm the relationship of all human beings in the family of humanity.\nTowards that end we are initiating a prayer vigil every day to connect people of conscience with each other and magnetize the prayer for peace in unison with the will of God to create a truly holy and peaceful land.\nWe are all witnessing the powerful destruction and pain unleashed by human beings responding to emotional upheaval with violence.\nThe peace we are praying for is the power that can shift the balance in the Holy Land towards a gentle\, humane\, and just settlement amongst all aggrieved parties.\nPlease come and pray with us.\n\nThank you\,\n\nDavid Less\nChairman of the Board\nAbrahamic Reunion USA dance
URL:https://www.abrahamicreunion.org/event/peace-prayer-vigil-for-palestine-israel-3/
LOCATION:FL
END:VEVENT
BEGIN:VEVENT
DTSTART;TZID=America/New_York:20220216T200000
DTEND;TZID=America/New_York:20220216T201000
DTSTAMP:20260424T223126
CREATED:20220131T190432Z
LAST-MODIFIED:20220131T190432Z
UID:8087-1645041600-1645042200@www.abrahamicreunion.org
SUMMARY:Peace Prayer Vigil for Palestine & Israel
DESCRIPTION:10 Minutes of Prayer for Peace & Compassion\nFeaturing a different Palestinian or Israeli peace leader each Vigil – all faiths and people welcome.\nHosted by International Director Sheikh Ghassan Manasra\n \n1st & 3rd Wednesdays\n11am + 8pm EST\n\n\n\nWe’re Adding a 2nd Time for the Prayer Vigil\nTo create space for more people to join us for the Prayer Vigil\, we are adding a 2nd time — 8pm EST — so that those who can’t join earlier have the opportunity to be part of our peace prayer vigil.\nWe’ll host the session live\, play music as you enter\, and show the morning’s prayer. The Vigils will continue to be uploaded to our YouTube Channel as well.\n  \nEmail: info@abrahamicreunion.org for help joining\nFor video recordings of past Daily Prayer Vigils\, Click Here\n\n\nDear Friends of Peace\,\nThe conflict in the Holy Land is breaking so many hearts right now\, and no eye can be dry when aware of the level of pain\, suffering\, and destruction occurring in this sacred place.\nIt is incumbent on those who are in any way connected with the Abrahamic Reunion to use our most powerful force\, which is praying together for peace and compassion.\nWe have continually affirmed that religions\, coming together in the name of peace\, are a most potent force in awakening us to our connection with each other.\nIt is time for us to unite and use the power of prayer to reawaken the sleeping consciousness of those who are calling for more pain and more destruction and ask them\, through the power of peaceful prayer\, to cease hostilities and affirm the relationship of all human beings in the family of humanity.\nTowards that end we are initiating a prayer vigil every day to connect people of conscience with each other and magnetize the prayer for peace in unison with the will of God to create a truly holy and peaceful land.\nWe are all witnessing the powerful destruction and pain unleashed by human beings responding to emotional upheaval with violence.\nThe peace we are praying for is the power that can shift the balance in the Holy Land towards a gentle\, humane\, and just settlement amongst all aggrieved parties.\nPlease come and pray with us.\n\nThank you\,\n\nDavid Less\nChairman of the Board\nAbrahamic Reunion USA dance
URL:https://www.abrahamicreunion.org/event/peace-prayer-vigil-for-palestine-israel-4/
LOCATION:FL
END:VEVENT
BEGIN:VEVENT
DTSTART;TZID=America/New_York:20220218T200000
DTEND;TZID=America/New_York:20220218T201000
DTSTAMP:20260424T223126
CREATED:20220218T143958Z
LAST-MODIFIED:20220218T143958Z
UID:8096-1645214400-1645215000@www.abrahamicreunion.org
SUMMARY:Prayer Vigil for Peace in Palestine & Israel (During Ramadan)
DESCRIPTION:10 Minutes of Prayer for Peace & Compassion\nFeaturing a different Palestinian or Israeli peace leader each Vigil – all faiths and people welcome.\nHosted by International Director Sheikh Ghassan Manasra\n \n1st & 3rd Wednesdays\n11am + 8pm EST\n\n\n\n\n2022 Schedule:\nJan 19th ~ February 2nd & 16th ~ March 2nd ~ March 15th (Moved to Tuesday for Purim)\nApril 6th & 20th ~ May 4th (During Eid) & 18th ~ June 1st & 15th ~ July 6th & 20th\nAutust 3rd & 17th ~ September 7th & 21st ~ October 6th (Moved to Thursday for Yom Kippur)\nOctober 19th ~ November 2nd & 16th ~ December 7th & 21st\n\n\nWe’re Adding a 2nd Time for the Prayer Vigil\nTo create space for more people to join us for the Prayer Vigil\, we are adding a 2nd time — 8pm EST — so that those who can’t join earlier have the opportunity to be part of our peace prayer vigil. We’ll host the session live\, play music as you enter\, and show the morning’s prayer.\nRecordings\nThe Vigils will continue to be uploaded to our YouTube Channel as well.\nFriends of the Vigil\n Easton\, MA\, USA \n\n\n  \n\nLake Worth\nInterfaith Network\nLake Worth\, FL\n\n \nHavurah\nShir Hadash\nA Jewish Renewal Community\nin Ashland\, OR\n\n\n\nBecome Friend of the Vigil:\n\nHave your Congregation or Organization’s Logo listed on the Prayer Vigil Announcements & Website.\nForward this email and future vigil announcements to your congregation / organization / group.\nConfirm and send your logo to chris@abrahamicreunion.org\n\n\n\nEmail: info@abrahamicreunion.org for help joining\n\nDear Friends of Peace\,\nThe conflict in the Holy Land is breaking so many hearts right now\, and no eye can be dry when aware of the level of pain\, suffering\, and destruction occurring in this sacred place.\nIt is incumbent on those who are in any way connected with the Abrahamic Reunion to use our most powerful force\, which is praying together for peace and compassion.\nWe have continually affirmed that religions\, coming together in the name of peace\, are a most potent force in awakening us to our connection with each other.\nIt is time for us to unite and use the power of prayer to reawaken the sleeping consciousness of those who are calling for more pain and more destruction and ask them\, through the power of peaceful prayer\, to cease hostilities and affirm the relationship of all human beings in the family of humanity.\nTowards that end we are initiating a prayer vigil every day to connect people of conscience with each other and magnetize the prayer for peace in unison with the will of God to create a truly holy and peaceful land.\nWe are all witnessing the powerful destruction and pain unleashed by human beings responding to emotional upheaval with violence.\nThe peace we are praying for is the power that can shift the balance in the Holy Land towards a gentle\, humane\, and just settlement amongst all aggrieved parties.\nPlease come and pray with us.\n\nThank you\,\n\nDavid Less\nChairman of the Board\nAbrahamic Reunion USA dance
URL:https://www.abrahamicreunion.org/event/prayer-vigil-for-peace-in-palestine-israel-during-ramadan-4/
LOCATION:FL
END:VEVENT
END:VCALENDAR