BEGIN:VCALENDAR
VERSION:2.0
PRODID:-//Abrahamic Reunion - ECPv6.15.20//NONSGML v1.0//EN
CALSCALE:GREGORIAN
METHOD:PUBLISH
X-WR-CALNAME:Abrahamic Reunion
X-ORIGINAL-URL:https://www.abrahamicreunion.org
X-WR-CALDESC:Events for Abrahamic Reunion
REFRESH-INTERVAL;VALUE=DURATION:PT1H
X-Robots-Tag:noindex
X-PUBLISHED-TTL:PT1H
BEGIN:VTIMEZONE
TZID:America/New_York
BEGIN:DAYLIGHT
TZOFFSETFROM:-0500
TZOFFSETTO:-0400
TZNAME:EDT
DTSTART:20210314T070000
END:DAYLIGHT
BEGIN:STANDARD
TZOFFSETFROM:-0400
TZOFFSETTO:-0500
TZNAME:EST
DTSTART:20211107T060000
END:STANDARD
BEGIN:DAYLIGHT
TZOFFSETFROM:-0500
TZOFFSETTO:-0400
TZNAME:EDT
DTSTART:20220313T070000
END:DAYLIGHT
BEGIN:STANDARD
TZOFFSETFROM:-0400
TZOFFSETTO:-0500
TZNAME:EST
DTSTART:20221106T060000
END:STANDARD
BEGIN:DAYLIGHT
TZOFFSETFROM:-0500
TZOFFSETTO:-0400
TZNAME:EDT
DTSTART:20230312T070000
END:DAYLIGHT
BEGIN:STANDARD
TZOFFSETFROM:-0400
TZOFFSETTO:-0500
TZNAME:EST
DTSTART:20231105T060000
END:STANDARD
END:VTIMEZONE
BEGIN:VEVENT
DTSTART;TZID=America/New_York:20220406T110000
DTEND;TZID=America/New_York:20220406T110000
DTSTAMP:20260424T191617
CREATED:20220218T143839Z
LAST-MODIFIED:20220218T143839Z
UID:8094-1649242800-1649242800@www.abrahamicreunion.org
SUMMARY:Prayer Vigil for Peace in Palestine & Israel (During Ramadan)
DESCRIPTION:10 Minutes of Prayer for Peace & Compassion\nFeaturing a different Palestinian or Israeli peace leader each Vigil – all faiths and people welcome.\nHosted by International Director Sheikh Ghassan Manasra\n \n1st & 3rd Wednesdays\n11am + 8pm EST\n\n\n\n\n2022 Schedule:\nJan 19th ~ February 2nd & 16th ~ March 2nd ~ March 15th (Moved to Tuesday for Purim)\nApril 6th & 20th ~ May 4th (During Eid) & 18th ~ June 1st & 15th ~ July 6th & 20th\nAutust 3rd & 17th ~ September 7th & 21st ~ October 6th (Moved to Thursday for Yom Kippur)\nOctober 19th ~ November 2nd & 16th ~ December 7th & 21st\n\n\nWe’re Adding a 2nd Time for the Prayer Vigil\nTo create space for more people to join us for the Prayer Vigil\, we are adding a 2nd time — 8pm EST — so that those who can’t join earlier have the opportunity to be part of our peace prayer vigil. We’ll host the session live\, play music as you enter\, and show the morning’s prayer.\nRecordings\nThe Vigils will continue to be uploaded to our YouTube Channel as well.\nFriends of the Vigil\n Easton\, MA\, USA \n\n\n  \n\nLake Worth\nInterfaith Network\nLake Worth\, FL\n\n \nHavurah\nShir Hadash\nA Jewish Renewal Community\nin Ashland\, OR\n\n\n\nBecome Friend of the Vigil:\n\nHave your Congregation or Organization’s Logo listed on the Prayer Vigil Announcements & Website.\nForward this email and future vigil announcements to your congregation / organization / group.\nConfirm and send your logo to chris@abrahamicreunion.org\n\n\n\nEmail: info@abrahamicreunion.org for help joining\n\nDear Friends of Peace\,\nThe conflict in the Holy Land is breaking so many hearts right now\, and no eye can be dry when aware of the level of pain\, suffering\, and destruction occurring in this sacred place.\nIt is incumbent on those who are in any way connected with the Abrahamic Reunion to use our most powerful force\, which is praying together for peace and compassion.\nWe have continually affirmed that religions\, coming together in the name of peace\, are a most potent force in awakening us to our connection with each other.\nIt is time for us to unite and use the power of prayer to reawaken the sleeping consciousness of those who are calling for more pain and more destruction and ask them\, through the power of peaceful prayer\, to cease hostilities and affirm the relationship of all human beings in the family of humanity.\nTowards that end we are initiating a prayer vigil every day to connect people of conscience with each other and magnetize the prayer for peace in unison with the will of God to create a truly holy and peaceful land.\nWe are all witnessing the powerful destruction and pain unleashed by human beings responding to emotional upheaval with violence.\nThe peace we are praying for is the power that can shift the balance in the Holy Land towards a gentle\, humane\, and just settlement amongst all aggrieved parties.\nPlease come and pray with us.\n\nThank you\,\n\nDavid Less\nChairman of the Board\nAbrahamic Reunion USA dance
URL:https://www.abrahamicreunion.org/event/prayer-vigil-for-peace-in-palestine-israel-during-ramadan/
LOCATION:FL
END:VEVENT
BEGIN:VEVENT
DTSTART;TZID=America/New_York:20220406T200000
DTEND;TZID=America/New_York:20220406T201000
DTSTAMP:20260424T191617
CREATED:20220218T143910Z
LAST-MODIFIED:20220218T143910Z
UID:8095-1649275200-1649275800@www.abrahamicreunion.org
SUMMARY:Prayer Vigil for Peace in Palestine & Israel (During Ramadan)
DESCRIPTION:10 Minutes of Prayer for Peace & Compassion\nFeaturing a different Palestinian or Israeli peace leader each Vigil – all faiths and people welcome.\nHosted by International Director Sheikh Ghassan Manasra\n \n1st & 3rd Wednesdays\n11am + 8pm EST\n\n\n\n\n2022 Schedule:\nJan 19th ~ February 2nd & 16th ~ March 2nd ~ March 15th (Moved to Tuesday for Purim)\nApril 6th & 20th ~ May 4th (During Eid) & 18th ~ June 1st & 15th ~ July 6th & 20th\nAutust 3rd & 17th ~ September 7th & 21st ~ October 6th (Moved to Thursday for Yom Kippur)\nOctober 19th ~ November 2nd & 16th ~ December 7th & 21st\n\n\nWe’re Adding a 2nd Time for the Prayer Vigil\nTo create space for more people to join us for the Prayer Vigil\, we are adding a 2nd time — 8pm EST — so that those who can’t join earlier have the opportunity to be part of our peace prayer vigil. We’ll host the session live\, play music as you enter\, and show the morning’s prayer.\nRecordings\nThe Vigils will continue to be uploaded to our YouTube Channel as well.\nFriends of the Vigil\n Easton\, MA\, USA \n\n\n  \n\nLake Worth\nInterfaith Network\nLake Worth\, FL\n\n \nHavurah\nShir Hadash\nA Jewish Renewal Community\nin Ashland\, OR\n\n\n\nBecome Friend of the Vigil:\n\nHave your Congregation or Organization’s Logo listed on the Prayer Vigil Announcements & Website.\nForward this email and future vigil announcements to your congregation / organization / group.\nConfirm and send your logo to chris@abrahamicreunion.org\n\n\n\nEmail: info@abrahamicreunion.org for help joining\n\nDear Friends of Peace\,\nThe conflict in the Holy Land is breaking so many hearts right now\, and no eye can be dry when aware of the level of pain\, suffering\, and destruction occurring in this sacred place.\nIt is incumbent on those who are in any way connected with the Abrahamic Reunion to use our most powerful force\, which is praying together for peace and compassion.\nWe have continually affirmed that religions\, coming together in the name of peace\, are a most potent force in awakening us to our connection with each other.\nIt is time for us to unite and use the power of prayer to reawaken the sleeping consciousness of those who are calling for more pain and more destruction and ask them\, through the power of peaceful prayer\, to cease hostilities and affirm the relationship of all human beings in the family of humanity.\nTowards that end we are initiating a prayer vigil every day to connect people of conscience with each other and magnetize the prayer for peace in unison with the will of God to create a truly holy and peaceful land.\nWe are all witnessing the powerful destruction and pain unleashed by human beings responding to emotional upheaval with violence.\nThe peace we are praying for is the power that can shift the balance in the Holy Land towards a gentle\, humane\, and just settlement amongst all aggrieved parties.\nPlease come and pray with us.\n\nThank you\,\n\nDavid Less\nChairman of the Board\nAbrahamic Reunion USA dance
URL:https://www.abrahamicreunion.org/event/prayer-vigil-for-peace-in-palestine-israel-during-ramadan-2/
LOCATION:FL
END:VEVENT
BEGIN:VEVENT
DTSTART;TZID=America/New_York:20220413T110000
DTEND;TZID=America/New_York:20220413T120000
DTSTAMP:20260424T191617
CREATED:20220331T220223Z
LAST-MODIFIED:20220331T220223Z
UID:8102-1649847600-1649851200@www.abrahamicreunion.org
SUMMARY:The Prayer of Protection - Unity Prayer from the Holy Land
DESCRIPTION:April 13th\, 11am EDT / 6pm Holy Land\nRegister on Eventbrite\nRegister Using Google Forms CLICK HERE\nJoin the Abrahamic Reunion for an hour of connection with courageous peacebuilders and spiritual luminaries from Palestine and Israel\, who will share prayers\, inspiration\, and reflections on the theme of giving and generosity.\n\nGroup prayer has a powerful effect. This is true not only for Israel and Palestine\, but throughout the world. Communal prayer and meditation\, with a focus on the common good\, can create the shift in consciousness that we all seek.\n\nAt each Online Unity Prayer for the Holy Land\, religious leaders and holy peacemakers in Israel and Palestine will join together on zoom and lead 45 minutes of prayer in the spirit of interconnection and peace.\n\nDavid Less\, AR Board Chairman\, and Sheikh Ghassan Manasra\, AR International Director host each Unity Prayer’s Muslim\, Jewish\, Christian\, and Druze prayer leaders – women\, men\, and youth.\n\nPlease join us. The addition of your prayer energy will help build the change we all seek.\n\nPeace\, Salaam\, Shalom\n\nBios — Leaders TBA\n\n\n\n\n\n\n\n\n \nDavid Less\nAbrahamic Reunion US Board Chair \n\n\nDavid Less is a global teacher of meditation and interfaith dialog of over forty years. For over a decade he was the Global Dean of the Universal Worship\, an organization in over thirty countries\,that honors the commonality in all religions and appreciates and respects the differences. He started promoting understanding rather than blame as a path to peace in the Holy Land in 2000 and was one of the founders of the Abrahamic Reunion shortly thereafter.  To contact\, reach out to info@abrahamicreunion.org \n\n\n \nSheikh Ghassan Manasra\nAbrahamic Reunion International Director \n\n\nSheikh Ghassan Manasra was one of the Abrahamic Reunion’s Co-Coordinators in the Holy Land until moving to the US in 2015\, and has been an active contributing Peacemaker with the AR for more than a decade. He is an ordained Sheikh in the Qadiri Sufi Order in the Holy Land\, and son of Sheikh Abdel Salaam Manasra – head of the Qadiri Sufi Order in the Holy Land. He is the founder of Anwar-Il-Salaam\, the Lights of Peace Center in Nazareth\, and  is Director\, Islamic Cultural Center in Nazareth. Ghassan is an expert and lectures in Islam\, Islamic history\, Sufism\, and contemporary Muslim issues  in the Middle East\, Europe\, and the USA. Ghassan@abrahamicreunion.org
URL:https://www.abrahamicreunion.org/event/the-prayer-of-protection-unity-prayer-from-the-holy-land/
LOCATION:FL
CATEGORIES:AR Germany,AR Holy Land,AR UK,AR USA,Interfaith Meeting,Spiritual Gathering
END:VEVENT
BEGIN:VEVENT
DTSTART;TZID=America/New_York:20220420T110000
DTEND;TZID=America/New_York:20220420T111000
DTSTAMP:20260424T191617
CREATED:20220218T143933Z
LAST-MODIFIED:20220218T143933Z
UID:7638-1650452400-1650453000@www.abrahamicreunion.org
SUMMARY:Prayer Vigil for Peace in Palestine & Israel (During Ramadan)
DESCRIPTION:10 Minutes of Prayer for Peace & Compassion\nFeaturing a different Palestinian or Israeli peace leader each Vigil – all faiths and people welcome.\nHosted by International Director Sheikh Ghassan Manasra\n \n1st & 3rd Wednesdays\n11am + 8pm EST\n\n\n\n\n2022 Schedule:\nJan 19th ~ February 2nd & 16th ~ March 2nd ~ March 15th (Moved to Tuesday for Purim)\nApril 6th & 20th ~ May 4th (During Eid) & 18th ~ June 1st & 15th ~ July 6th & 20th\nAutust 3rd & 17th ~ September 7th & 21st ~ October 6th (Moved to Thursday for Yom Kippur)\nOctober 19th ~ November 2nd & 16th ~ December 7th & 21st\n\n\nWe’re Adding a 2nd Time for the Prayer Vigil\nTo create space for more people to join us for the Prayer Vigil\, we are adding a 2nd time — 8pm EST — so that those who can’t join earlier have the opportunity to be part of our peace prayer vigil. We’ll host the session live\, play music as you enter\, and show the morning’s prayer.\nRecordings\nThe Vigils will continue to be uploaded to our YouTube Channel as well.\nFriends of the Vigil\n Easton\, MA\, USA \n\n\n  \n\nLake Worth\nInterfaith Network\nLake Worth\, FL\n\n \nHavurah\nShir Hadash\nA Jewish Renewal Community\nin Ashland\, OR\n\n\n\nBecome Friend of the Vigil:\n\nHave your Congregation or Organization’s Logo listed on the Prayer Vigil Announcements & Website.\nForward this email and future vigil announcements to your congregation / organization / group.\nConfirm and send your logo to chris@abrahamicreunion.org\n\n\n\nEmail: info@abrahamicreunion.org for help joining\n\nDear Friends of Peace\,\nThe conflict in the Holy Land is breaking so many hearts right now\, and no eye can be dry when aware of the level of pain\, suffering\, and destruction occurring in this sacred place.\nIt is incumbent on those who are in any way connected with the Abrahamic Reunion to use our most powerful force\, which is praying together for peace and compassion.\nWe have continually affirmed that religions\, coming together in the name of peace\, are a most potent force in awakening us to our connection with each other.\nIt is time for us to unite and use the power of prayer to reawaken the sleeping consciousness of those who are calling for more pain and more destruction and ask them\, through the power of peaceful prayer\, to cease hostilities and affirm the relationship of all human beings in the family of humanity.\nTowards that end we are initiating a prayer vigil every day to connect people of conscience with each other and magnetize the prayer for peace in unison with the will of God to create a truly holy and peaceful land.\nWe are all witnessing the powerful destruction and pain unleashed by human beings responding to emotional upheaval with violence.\nThe peace we are praying for is the power that can shift the balance in the Holy Land towards a gentle\, humane\, and just settlement amongst all aggrieved parties.\nPlease come and pray with us.\n\nThank you\,\n\nDavid Less\nChairman of the Board\nAbrahamic Reunion USA dance
URL:https://www.abrahamicreunion.org/event/prayer-vigil-for-peace-in-palestine-israel-during-ramadan-3/
LOCATION:FL
END:VEVENT
BEGIN:VEVENT
DTSTART;TZID=America/New_York:20220426T103000
DTEND;TZID=America/New_York:20220426T120000
DTSTAMP:20260424T191617
CREATED:20220423T003811Z
LAST-MODIFIED:20220423T003811Z
UID:8103-1650969000-1650974400@www.abrahamicreunion.org
SUMMARY:18th Annual Multifaith Iftar in The Holy Land (Livestreamed from Nazareth Via ZOOM)
DESCRIPTION:  \nDear Friends\, \nWe are excited to bring into to our 18th Annual Multifaith Iftar In the Holy Land for Peace via Zoom Livestream! \nWhile conflict escalates across the Holy Land and tensions are heightened\, the Peacemakers of the Abrahamic Reunion are bringing people together to show and strengthen peace\, interfaith connection\, and human familyhood. \nOver 200 Muslims\, Jews\, Christians\, and Druze Israelis and Palestinains will join together in an Iftar meal\, the time of breaking the daily fast during Ramadan for Muslims. The occasion will be marked with speeches and prayers from Religious Leaders\, Peacemakers\, Youth and Community Leaders\, an art exhibit\, live musical performance\, dialogue\, and much more. \nEach table will be seated with people from all the various religions for dialogue\, encounter\, and connection. \nLivestream begins 10:45AM EDT\, and the program begins at 11:00am EDT. \nEnjoy live commentary from David Less\, Chris Miller\, AR Peacemakers\, and the Board of Directors\, while listening to speeches\, music\, and witnessing the event. \nAt one point in the gathering\, the Zooming participants from around the world will be displayed on the projector screen at the venue to show those in the Holy Land just how many prayers and how much support are with them as they for strive and build peace. \nCLICK TO REGISTER FOR THE ZOOM LIVESTREAM (3 Options):\n–> Eventbrite\n–> Google Registration\n –> RSVP: chris@abrahamicreunion.org \n\nClick here to Donate & Support the Iftar\n  \n 
URL:https://www.abrahamicreunion.org/event/18th-annual-multifaith-iftar-in-the-holy-land-livestreamed-from-nazareth-via-zoom/
LOCATION:FL
CATEGORIES:AR Holy Land,Iftar
END:VEVENT
END:VCALENDAR