BEGIN:VCALENDAR
VERSION:2.0
PRODID:-//Abrahamic Reunion - ECPv6.15.20//NONSGML v1.0//EN
CALSCALE:GREGORIAN
METHOD:PUBLISH
X-WR-CALNAME:Abrahamic Reunion
X-ORIGINAL-URL:https://www.abrahamicreunion.org
X-WR-CALDESC:Events for Abrahamic Reunion
REFRESH-INTERVAL;VALUE=DURATION:PT1H
X-Robots-Tag:noindex
X-PUBLISHED-TTL:PT1H
BEGIN:VTIMEZONE
TZID:UTC
BEGIN:STANDARD
TZOFFSETFROM:+0000
TZOFFSETTO:+0000
TZNAME:UTC
DTSTART:20210101T000000
END:STANDARD
END:VTIMEZONE
BEGIN:VEVENT
DTSTART;TZID=UTC:20220803T110000
DTEND;TZID=UTC:20220803T110000
DTSTAMP:20260422T142152
CREATED:20220622T213534Z
LAST-MODIFIED:20220622T215354Z
UID:8262-1659524400-1659524400@www.abrahamicreunion.org
SUMMARY:Prayer Vigil for Peace in Palestine & Israel
DESCRIPTION:Featuring a different Palestinian or Israeli peace leader each Vigil.\nAll faiths and people welcome!\n\nHosted by:  Sheikh Ghassan Manasra\, AR Int’l Director\n \n1st & 3rd Wednesdays\n11am EDT\n\n\n\n\nEmail: info@abrahamicreunion.org for help joining\n\n2022 Schedule:\nJan 19th ~ February 2nd & 16th ~ March 2nd ~ March 15th (Moved to Tuesday for Purim)\nApril 6th & 20th ~ May 4th (During Eid) & 18th ~ June 1st & 15th ~ July 6th & 20th\nAutust 3rd & 17th ~ September 7th & 21st ~ October 6th (Moved to Thursday for Yom Kippur)\nOctober 19th ~ November 2nd & 16th ~ December 7th & 21st\n\n\n\nRecordings\nThe Vigils will continue to be uploaded to our YouTube Channel as well.\n\nFriends of the Vigil\n Easton\, MA\, USA \n\n\nLake Worth\nInterfaith Network\nLake Worth\, FL\n\n\n\n\n\n\n \nHavurah\nShir Hadash\nA Jewish Renewal Community\nin Ashland\, OR\n\n\n\nBecome Friend of the Vigil:\nHave your Congregation or Organization’s Logo listed on the Prayer Vigil Announcements & Website. \nForward this email and future vigil announcements to your congregation / organization / group. \nConfirm and send your logo to chris@abrahamicreunion.org \n\n\nInvitation from David Less\, US Board Chairman\nDear Friends of Peace\,\nThe conflict in the Holy Land is breaking so many hearts right now\, and no eye can be dry when aware of the level of pain\, suffering\, and destruction occurring in this sacred place.\nIt is incumbent on those who are in any way connected with the Abrahamic Reunion to use our most powerful force\, which is praying together for peace and compassion.\nWe have continually affirmed that religions\, coming together in the name of peace\, are a most potent force in awakening us to our connection with each other.\nIt is time for us to unite and use the power of prayer to reawaken the sleeping consciousness of those who are calling for more pain and more destruction and ask them\, through the power of peaceful prayer\, to cease hostilities and affirm the relationship of all human beings in the family of humanity.\nTowards that end we are initiating a prayer vigil every day to connect people of conscience with each other and magnetize the prayer for peace in unison with the will of God to create a truly holy and peaceful land.\nWe are all witnessing the powerful destruction and pain unleashed by human beings responding to emotional upheaval with violence.\nThe peace we are praying for is the power that can shift the balance in the Holy Land towards a gentle\, humane\, and just settlement amongst all aggrieved parties.\nPlease come and pray with us.\n\nThank you\,\n\nDavid Less\nChairman of the Board\nAbrahamic Reunion USA dance
URL:https://www.abrahamicreunion.org/event/prayer-vigil-for-peace-in-palestine-israel-6/
LOCATION:FL
END:VEVENT
BEGIN:VEVENT
DTSTART;TZID=UTC:20220810T110000
DTEND;TZID=UTC:20220810T120000
DTSTAMP:20260422T142152
CREATED:20220622T214426Z
LAST-MODIFIED:20220802T021822Z
UID:8295-1660129200-1660132800@www.abrahamicreunion.org
SUMMARY:Unity Prayer for Giving
DESCRIPTION:The Prayer of Giving\nUnity Prayer from the Holy Land\nw/ Sheikh Ghassan Manasra\, David Less\, & Peace Leaders from Israel & Palestine (TBA)\n\nWednesday\, August 10th\n11am – 12pm EDT / 6-7pm Holy Land\n\n\nZoom Link Click Here\n  \n\n1 hour of multifaith prayer\, reflection\, and contemplation on the theme of giving and generosity.\n\n“The earth is full of the lovingkindness of the Lord.” (Psalm 33:5)\n“And truly the Lord your Guardian will give to you so that you will be content.” (Surah 93:5)\n” ‘It is more blessed to give than to receive.’ ” (Acts 20:35)\n\nJoin the Abrahamic Reunion for an hour of connection with courageous peacebuilders and spiritual luminaries from Palestine and Israel\, who will share prayers\, inspiration\, and reflections on the theme of giving and generosity.\nGroup prayer has a powerful effect. This is true not only for Israel and Palestine\, but throughout the world. Communal prayer and meditation\, with a focus on the common good\, can create the shift in consciousness that we all seek.\nAt each Online Unity Prayer for the Holy Land\, religious leaders and holy peacemakers in Israel and Palestine will join together on zoom and lead 45 minutes of prayer in the spirit of interconnection and peace.\nDavid Less\, AR Board Chairman\, and Sheikh Ghassan Manasra\, AR International Director host each Unity Prayer’s Muslim\, Jewish\, Christian\, and Druze prayer leaders – women\, men\, and youth\nPlease join us. The addition of your prayer energy will help build the change we all seek.\nPeace\, Salaam\, Shalom
URL:https://www.abrahamicreunion.org/event/unity-prayer-for-giving/
LOCATION:FL
END:VEVENT
BEGIN:VEVENT
DTSTART;TZID=UTC:20220818T110000
DTEND;TZID=UTC:20220818T111000
DTSTAMP:20260422T142152
CREATED:20220622T213555Z
LAST-MODIFIED:20220622T215359Z
UID:8263-1660820400-1660821000@www.abrahamicreunion.org
SUMMARY:Prayer Vigil for Peace in Palestine & Israel
DESCRIPTION:Featuring a different Palestinian or Israeli peace leader each Vigil.\nAll faiths and people welcome!\n\nHosted by:  Sheikh Ghassan Manasra\, AR Int’l Director\n \n1st & 3rd Wednesdays\n11am EDT\n\n\n\n\nEmail: info@abrahamicreunion.org for help joining\n\n2022 Schedule:\nJan 19th ~ February 2nd & 16th ~ March 2nd ~ March 15th (Moved to Tuesday for Purim)\nApril 6th & 20th ~ May 4th (During Eid) & 18th ~ June 1st & 15th ~ July 6th & 20th\nAutust 3rd & 17th ~ September 7th & 21st ~ October 6th (Moved to Thursday for Yom Kippur)\nOctober 19th ~ November 2nd & 16th ~ December 7th & 21st\n\n\n\nRecordings\nThe Vigils will continue to be uploaded to our YouTube Channel as well.\n\nFriends of the Vigil\n Easton\, MA\, USA \n\n\nLake Worth\nInterfaith Network\nLake Worth\, FL\n\n\n\n\n\n\n \nHavurah\nShir Hadash\nA Jewish Renewal Community\nin Ashland\, OR\n\n\n\nBecome Friend of the Vigil:\nHave your Congregation or Organization’s Logo listed on the Prayer Vigil Announcements & Website. \nForward this email and future vigil announcements to your congregation / organization / group. \nConfirm and send your logo to chris@abrahamicreunion.org \n\n\n\nInvitation from David Less\, US Board Chairman\nDear Friends of Peace\,\nThe conflict in the Holy Land is breaking so many hearts right now\, and no eye can be dry when aware of the level of pain\, suffering\, and destruction occurring in this sacred place.\nIt is incumbent on those who are in any way connected with the Abrahamic Reunion to use our most powerful force\, which is praying together for peace and compassion.\nWe have continually affirmed that religions\, coming together in the name of peace\, are a most potent force in awakening us to our connection with each other.\nIt is time for us to unite and use the power of prayer to reawaken the sleeping consciousness of those who are calling for more pain and more destruction and ask them\, through the power of peaceful prayer\, to cease hostilities and affirm the relationship of all human beings in the family of humanity.\nTowards that end we are initiating a prayer vigil every day to connect people of conscience with each other and magnetize the prayer for peace in unison with the will of God to create a truly holy and peaceful land.\nWe are all witnessing the powerful destruction and pain unleashed by human beings responding to emotional upheaval with violence.\nThe peace we are praying for is the power that can shift the balance in the Holy Land towards a gentle\, humane\, and just settlement amongst all aggrieved parties.\nPlease come and pray with us.\n\nThank you\,\n\nDavid Less\nChairman of the Board\nAbrahamic Reunion USA dance
URL:https://www.abrahamicreunion.org/event/prayer-vigil-for-peace-in-palestine-israel-7/
LOCATION:FL
END:VEVENT
BEGIN:VEVENT
DTSTART;TZID=UTC:20220824T110000
DTEND;TZID=UTC:20220824T120000
DTSTAMP:20260422T142152
CREATED:20220801T194755Z
LAST-MODIFIED:20220816T201606Z
UID:8442-1661338800-1661342400@www.abrahamicreunion.org
SUMMARY:Peacebuilding with the Samaritans
DESCRIPTION:Zoom Link Click Here\nJoin us for an hour with Dr. Jacob Cohen\, President of the Samaritan Legends Association\, to talk about the peacebuilding efforts that the Abrahamic Reunion and the Samaritans community have been engaging in lately.\nIn this meeting we will:\nDiscuss the impact of The Samaritan Conference for our peacebuilding efforts\, \nLearn about the Samaritan Community\, one of the smallest ethno-religious groups in the world (only 850 members presently)\, \nHear about the similarities and differences with Judaism (they speak an ancient form of Hebrew)\, \nUnderstand better their complex place in the cultural topography of the Holy Land (they live in the West Bank\, are often confused with Jews\, and largely consider themselves Palestinians)\, \nShow footage and photos from the 2021 Samaritans Conference in Nablus which the Abrahamic Reunion and the Samaritan Legends Association sponsored and organized\, with support from the Topol Family Foundation\, \nFeature discussion between Dr. Cohen and Sheikh Ghassan Manasra\, and possibly other Abrahamic Reunion peacebuilders and leaders\, and \nTake Live Q & A. \n2021 Samaritan Conference Report:\n\nGraphic Version Click Here\nWith Video Embeds on Canva Click Here\nText Version Click Here\n\nDr. Jacob Cohen \nSamaritan Spokesman and Leader from Mt. Grizim\, Dr. Cohen is the West Bank Founder of the Samaritan Legend Association\, which facilitates workshops and lectures around the world teaching about the Samaritan community and using it as an example of coexistence and peace. He founded the Samaritan Youth Club. Jacob is the speaker on behalf of his father\, The High Priest of the Samaritan community\, and is considered a representative of the community outside the country. He has been featured in Forbes magazine as the manager of Har Bracha Tahini\, and been a speaker at the Parliament of the World’s Religions and numerous Abrahamic Reunion peacebuilding events. \n  \nSheikh Ghassan Manasra \nSheikh Ghassan Manasra is the Abrahamic Reunion’s International Director\, and has worked in interfaith peacemaking in the Holy Land\, and around the world\, for more than 38 years.  He is a second-generation peacemaker following in the footsteps of his father\, the scholar and Sufi Sheikh\, Abdelsalam Manasra. \nHe is an ordained Sheikh in the Qadiri Sufi Order of Peace in the Holy Land\, the founder of Anwar-Il-Salaam\, the Lights of Peace Center in Nazareth\, and was a founder and the Director of the Islamic Cultural Center in Nazareth. \nGhassan is able to build bridges and re-connect peoples because he feels himself to be part of every people\, and family with every human being. He looks forward to the time when all human beings will share in this feeling and live in peace together\, one with the other\, sharing in the beauty of the diversity of this world.
URL:https://www.abrahamicreunion.org/event/peacebuilding-with-the-samaritans/
LOCATION:Zoom\, FL\, United States
CATEGORIES:AR Holy Land,Interfaith Conference,Interfaith Meeting,Online
END:VEVENT
END:VCALENDAR