BEGIN:VCALENDAR
VERSION:2.0
PRODID:-//Abrahamic Reunion - ECPv6.15.20//NONSGML v1.0//EN
CALSCALE:GREGORIAN
METHOD:PUBLISH
X-WR-CALNAME:Abrahamic Reunion
X-ORIGINAL-URL:https://www.abrahamicreunion.org
X-WR-CALDESC:Events for Abrahamic Reunion
REFRESH-INTERVAL;VALUE=DURATION:PT1H
X-Robots-Tag:noindex
X-PUBLISHED-TTL:PT1H
BEGIN:VTIMEZONE
TZID:UTC
BEGIN:STANDARD
TZOFFSETFROM:+0000
TZOFFSETTO:+0000
TZNAME:UTC
DTSTART:20210101T000000
END:STANDARD
END:VTIMEZONE
BEGIN:VEVENT
DTSTART;TZID=UTC:20221006T110000
DTEND;TZID=UTC:20221006T111000
DTSTAMP:20260422T112022
CREATED:20220622T213807Z
LAST-MODIFIED:20220622T215416Z
UID:8276-1665054000-1665054600@www.abrahamicreunion.org
SUMMARY:Prayer Vigil for Peace in Palestine & Israel
DESCRIPTION:Featuring a different Palestinian or Israeli peace leader each Vigil.\nAll faiths and people welcome!\n\nHosted by:  Sheikh Ghassan Manasra\, AR Int’l Director\n \n1st & 3rd Wednesdays\n11am EDT\n\n\n\n\nEmail: info@abrahamicreunion.org for help joining\n\n2022 Schedule:\nJan 19th ~ February 2nd & 16th ~ March 2nd ~ March 15th (Moved to Tuesday for Purim)\nApril 6th & 20th ~ May 4th (During Eid) & 18th ~ June 1st & 15th ~ July 6th & 20th\nAutust 3rd & 17th ~ September 7th & 21st ~ October 6th (Moved to Thursday for Yom Kippur)\nOctober 19th ~ November 2nd & 16th ~ December 7th & 21st\n\n\n\nRecordings\nThe Vigils will continue to be uploaded to our YouTube Channel as well.\n\nFriends of the Vigil\n Easton\, MA\, USA \n\n\nLake Worth\nInterfaith Network\nLake Worth\, FL\n\n\n\n\n\n\n \nHavurah\nShir Hadash\nA Jewish Renewal Community\nin Ashland\, OR\n\n\n\nBecome Friend of the Vigil:\nHave your Congregation or Organization’s Logo listed on the Prayer Vigil Announcements & Website. \nForward this email and future vigil announcements to your congregation / organization / group. \nConfirm and send your logo to chris@abrahamicreunion.org \n\n\n\nInvitation from David Less\, US Board Chairman\nDear Friends of Peace\,\nThe conflict in the Holy Land is breaking so many hearts right now\, and no eye can be dry when aware of the level of pain\, suffering\, and destruction occurring in this sacred place.\nIt is incumbent on those who are in any way connected with the Abrahamic Reunion to use our most powerful force\, which is praying together for peace and compassion.\nWe have continually affirmed that religions\, coming together in the name of peace\, are a most potent force in awakening us to our connection with each other.\nIt is time for us to unite and use the power of prayer to reawaken the sleeping consciousness of those who are calling for more pain and more destruction and ask them\, through the power of peaceful prayer\, to cease hostilities and affirm the relationship of all human beings in the family of humanity.\nTowards that end we are initiating a prayer vigil every day to connect people of conscience with each other and magnetize the prayer for peace in unison with the will of God to create a truly holy and peaceful land.\nWe are all witnessing the powerful destruction and pain unleashed by human beings responding to emotional upheaval with violence.\nThe peace we are praying for is the power that can shift the balance in the Holy Land towards a gentle\, humane\, and just settlement amongst all aggrieved parties.\nPlease come and pray with us.\n\nThank you\,\n\nDavid Less\nChairman of the Board\nAbrahamic Reunion USA dance
URL:https://www.abrahamicreunion.org/event/prayer-vigil-for-peace-in-palestine-israel-10/
LOCATION:FL
END:VEVENT
BEGIN:VEVENT
DTSTART;TZID=UTC:20221019T080000
DTEND;TZID=UTC:20221019T170000
DTSTAMP:20260422T112022
CREATED:20220622T213850Z
LAST-MODIFIED:20220622T215420Z
UID:8277-1666166400-1666198800@www.abrahamicreunion.org
SUMMARY:Prayer Vigil for Peace in Palestine & Israel
DESCRIPTION:Featuring a different Palestinian or Israeli peace leader each Vigil.\nAll faiths and people welcome!\n\nHosted by:  Sheikh Ghassan Manasra\, AR Int’l Director\n \n1st & 3rd Wednesdays\n11am EDT\n\n\n\n\nEmail: info@abrahamicreunion.org for help joining\n\n2022 Schedule:\nJan 19th ~ February 2nd & 16th ~ March 2nd ~ March 15th (Moved to Tuesday for Purim)\nApril 6th & 20th ~ May 4th (During Eid) & 18th ~ June 1st & 15th ~ July 6th & 20th\nAutust 3rd & 17th ~ September 7th & 21st ~ October 6th (Moved to Thursday for Yom Kippur)\nOctober 19th ~ November 2nd & 16th ~ December 7th & 21st\n\n\n\nRecordings\nThe Vigils will continue to be uploaded to our YouTube Channel as well.\n\nFriends of the Vigil\n Easton\, MA\, USA \n\n\nLake Worth\nInterfaith Network\nLake Worth\, FL\n\n\n\n\n\n\n \nHavurah\nShir Hadash\nA Jewish Renewal Community\nin Ashland\, OR\n\n\n\nBecome Friend of the Vigil:\nHave your Congregation or Organization’s Logo listed on the Prayer Vigil Announcements & Website. \nForward this email and future vigil announcements to your congregation / organization / group. \nConfirm and send your logo to chris@abrahamicreunion.org \n\n\n\nInvitation from David Less\, US Board Chairman\nDear Friends of Peace\,\nThe conflict in the Holy Land is breaking so many hearts right now\, and no eye can be dry when aware of the level of pain\, suffering\, and destruction occurring in this sacred place.\nIt is incumbent on those who are in any way connected with the Abrahamic Reunion to use our most powerful force\, which is praying together for peace and compassion.\nWe have continually affirmed that religions\, coming together in the name of peace\, are a most potent force in awakening us to our connection with each other.\nIt is time for us to unite and use the power of prayer to reawaken the sleeping consciousness of those who are calling for more pain and more destruction and ask them\, through the power of peaceful prayer\, to cease hostilities and affirm the relationship of all human beings in the family of humanity.\nTowards that end we are initiating a prayer vigil every day to connect people of conscience with each other and magnetize the prayer for peace in unison with the will of God to create a truly holy and peaceful land.\nWe are all witnessing the powerful destruction and pain unleashed by human beings responding to emotional upheaval with violence.\nThe peace we are praying for is the power that can shift the balance in the Holy Land towards a gentle\, humane\, and just settlement amongst all aggrieved parties.\nPlease come and pray with us.\n\nThank you\,\n\nDavid Less\nChairman of the Board\nAbrahamic Reunion USA dance
URL:https://www.abrahamicreunion.org/event/prayer-vigil-for-peace-in-palestine-israel-11/
LOCATION:FL
END:VEVENT
BEGIN:VEVENT
DTSTART;TZID=UTC:20221026T110000
DTEND;TZID=UTC:20221026T120000
DTSTAMP:20260422T112022
CREATED:20220622T214317Z
LAST-MODIFIED:20221018T183724Z
UID:8291-1666782000-1666785600@www.abrahamicreunion.org
SUMMARY:Unity Prayer for Forgiveness
DESCRIPTION:“Do not hate your brother in your heart.” (Leviticus 19:17)\n“Forgive\, and you will be forgiven.” (Luke 6:37)\n“Verily\, He is One Who forgives (accepts repentance)\, the Most Merciful.” (Quran\, Sura 2 (Al-Baqara)\, ayah 37)\n\n\nFeaturing Muslim\, Jewish\, Christian\, and Druze Prayers\nHosted by David Less & Sheikh Ghassan Manasra\n\nJOIN ZOOM MEETING CLICK HERE\n\n\n\nJoin the Abrahamic Reunion for an hour of connection with courageous peacebuilders and spiritual luminaries from Palestine and Israel\, who will share prayers\, inspiration\, and reflections on the theme of giving and generosity.\n\nAt each Online Unity Prayer for the Holy Land\, religious leaders and holy peacemakers in Israel and Palestine will join together on zoom and lead 45 minutes of prayer.\n\nDavid Less\, AR Board Chairman\, and Sheikh Ghassan Manasra\, AR International Director\, will host Muslim\, Jewish\, Christian\, and Druze prayer leaders in the Holy Land.\n\nPlease join us. The addition of your prayer energy will help build the change we all seek.\n\nPeace\, Salaam\, Shalom
URL:https://www.abrahamicreunion.org/event/unity-prayer-for-forgiveness/
LOCATION:FL
END:VEVENT
END:VCALENDAR