BEGIN:VCALENDAR
VERSION:2.0
PRODID:-//Abrahamic Reunion - ECPv6.15.20//NONSGML v1.0//EN
CALSCALE:GREGORIAN
METHOD:PUBLISH
X-WR-CALNAME:Abrahamic Reunion
X-ORIGINAL-URL:https://www.abrahamicreunion.org
X-WR-CALDESC:Events for Abrahamic Reunion
REFRESH-INTERVAL;VALUE=DURATION:PT1H
X-Robots-Tag:noindex
X-PUBLISHED-TTL:PT1H
BEGIN:VTIMEZONE
TZID:UTC
BEGIN:STANDARD
TZOFFSETFROM:+0000
TZOFFSETTO:+0000
TZNAME:UTC
DTSTART:20210101T000000
END:STANDARD
END:VTIMEZONE
BEGIN:VEVENT
DTSTART;TZID=UTC:20221102T110000
DTEND;TZID=UTC:20221102T111000
DTSTAMP:20260422T094744
CREATED:20220622T213944Z
LAST-MODIFIED:20220622T215425Z
UID:8285-1667386800-1667387400@www.abrahamicreunion.org
SUMMARY:Prayer Vigil for Peace in Palestine & Israel
DESCRIPTION:Featuring a different Palestinian or Israeli peace leader each Vigil.\nAll faiths and people welcome!\n\nHosted by:  Sheikh Ghassan Manasra\, AR Int’l Director\n \n1st & 3rd Wednesdays\n11am EDT\n\n\n\n\nEmail: info@abrahamicreunion.org for help joining\n\n2022 Schedule:\nJan 19th ~ February 2nd & 16th ~ March 2nd ~ March 15th (Moved to Tuesday for Purim)\nApril 6th & 20th ~ May 4th (During Eid) & 18th ~ June 1st & 15th ~ July 6th & 20th\nAutust 3rd & 17th ~ September 7th & 21st ~ October 6th (Moved to Thursday for Yom Kippur)\nOctober 19th ~ November 2nd & 16th ~ December 7th & 21st\n\n\n\nRecordings\nThe Vigils will continue to be uploaded to our YouTube Channel as well.\n\nFriends of the Vigil\n Easton\, MA\, USA \n\n\nLake Worth\nInterfaith Network\nLake Worth\, FL\n\n\n\n\n\n\n \nHavurah\nShir Hadash\nA Jewish Renewal Community\nin Ashland\, OR\n\n\n\nBecome Friend of the Vigil:\nHave your Congregation or Organization’s Logo listed on the Prayer Vigil Announcements & Website. \nForward this email and future vigil announcements to your congregation / organization / group. \nConfirm and send your logo to chris@abrahamicreunion.org \n\n\n\nInvitation from David Less\, US Board Chairman\nDear Friends of Peace\,\nThe conflict in the Holy Land is breaking so many hearts right now\, and no eye can be dry when aware of the level of pain\, suffering\, and destruction occurring in this sacred place.\nIt is incumbent on those who are in any way connected with the Abrahamic Reunion to use our most powerful force\, which is praying together for peace and compassion.\nWe have continually affirmed that religions\, coming together in the name of peace\, are a most potent force in awakening us to our connection with each other.\nIt is time for us to unite and use the power of prayer to reawaken the sleeping consciousness of those who are calling for more pain and more destruction and ask them\, through the power of peaceful prayer\, to cease hostilities and affirm the relationship of all human beings in the family of humanity.\nTowards that end we are initiating a prayer vigil every day to connect people of conscience with each other and magnetize the prayer for peace in unison with the will of God to create a truly holy and peaceful land.\nWe are all witnessing the powerful destruction and pain unleashed by human beings responding to emotional upheaval with violence.\nThe peace we are praying for is the power that can shift the balance in the Holy Land towards a gentle\, humane\, and just settlement amongst all aggrieved parties.\nPlease come and pray with us.\n\nThank you\,\n\nDavid Less\nChairman of the Board\nAbrahamic Reunion USA dance
URL:https://www.abrahamicreunion.org/event/prayer-vigil-for-peace-in-palestine-israel-12/
LOCATION:FL
END:VEVENT
BEGIN:VEVENT
DTSTART;TZID=UTC:20221116T110000
DTEND;TZID=UTC:20221116T111000
DTSTAMP:20260422T094744
CREATED:20220622T214013Z
LAST-MODIFIED:20220622T215430Z
UID:8284-1668596400-1668597000@www.abrahamicreunion.org
SUMMARY:Prayer Vigil for Peace in Palestine & Israel
DESCRIPTION:Featuring a different Palestinian or Israeli peace leader each Vigil.\nAll faiths and people welcome!\n\nHosted by:  Sheikh Ghassan Manasra\, AR Int’l Director\n \n1st & 3rd Wednesdays\n11am EDT\n\n\n\n\nEmail: info@abrahamicreunion.org for help joining\n\n2022 Schedule:\nJan 19th ~ February 2nd & 16th ~ March 2nd ~ March 15th (Moved to Tuesday for Purim)\nApril 6th & 20th ~ May 4th (During Eid) & 18th ~ June 1st & 15th ~ July 6th & 20th\nAutust 3rd & 17th ~ September 7th & 21st ~ October 6th (Moved to Thursday for Yom Kippur)\nOctober 19th ~ November 2nd & 16th ~ December 7th & 21st\n\n\n\nRecordings\nThe Vigils will continue to be uploaded to our YouTube Channel as well.\n\nFriends of the Vigil\n Easton\, MA\, USA \n\n\nLake Worth\nInterfaith Network\nLake Worth\, FL\n\n\n\n\n\n\n \nHavurah\nShir Hadash\nA Jewish Renewal Community\nin Ashland\, OR\n\n\n\nBecome Friend of the Vigil:\nHave your Congregation or Organization’s Logo listed on the Prayer Vigil Announcements & Website. \nForward this email and future vigil announcements to your congregation / organization / group. \nConfirm and send your logo to chris@abrahamicreunion.org \n\n\n\nInvitation from David Less\, US Board Chairman\nDear Friends of Peace\,\nThe conflict in the Holy Land is breaking so many hearts right now\, and no eye can be dry when aware of the level of pain\, suffering\, and destruction occurring in this sacred place.\nIt is incumbent on those who are in any way connected with the Abrahamic Reunion to use our most powerful force\, which is praying together for peace and compassion.\nWe have continually affirmed that religions\, coming together in the name of peace\, are a most potent force in awakening us to our connection with each other.\nIt is time for us to unite and use the power of prayer to reawaken the sleeping consciousness of those who are calling for more pain and more destruction and ask them\, through the power of peaceful prayer\, to cease hostilities and affirm the relationship of all human beings in the family of humanity.\nTowards that end we are initiating a prayer vigil every day to connect people of conscience with each other and magnetize the prayer for peace in unison with the will of God to create a truly holy and peaceful land.\nWe are all witnessing the powerful destruction and pain unleashed by human beings responding to emotional upheaval with violence.\nThe peace we are praying for is the power that can shift the balance in the Holy Land towards a gentle\, humane\, and just settlement amongst all aggrieved parties.\nPlease come and pray with us.\n\nThank you\,\n\nDavid Less\nChairman of the Board\nAbrahamic Reunion USA dance
URL:https://www.abrahamicreunion.org/event/prayer-vigil-for-peace-in-palestine-israel-13/
LOCATION:FL
END:VEVENT
BEGIN:VEVENT
DTSTART;TZID=UTC:20221129T110000
DTEND;TZID=UTC:20221129T120000
DTSTAMP:20260422T094744
CREATED:20221122T224628Z
LAST-MODIFIED:20221128T192505Z
UID:8784-1669719600-1669723200@www.abrahamicreunion.org
SUMMARY:Sacred Music of the Holy Land - Giving Tuesday Special Event
DESCRIPTION: \nFeaturing Musicians of the Holy Land:\nRabbi Leora Ezrachi-Vered\nAbed Manasra\nMalkon Marizian\nRabbi David Zaslow\nNobar Voskerijan\nRimon Sabbah\nHosted by Sheikh Ghassan Manasra & David Less\nZOOM LINK CLICK HERE\n\nMake a Donation to the AR’s FacebookGivingTuesday Campaign\n\n\n\nGift to the AR’s Giving Tuesday Campaign via our Website\n \nJoin David Less\, Ghassan Manasra\, and the Abrahamic Reunion Peacemakers for an hour of live music\, inspiration\, and connection for peace on #GivingTuesday\, the global day of giving\, generosity\, and philanthropy!\n \n\nGivingTuesday is the global day of generosity\, following after Black Friday and Cyber Monday.\n \nWe hope that you’ll remember the AR in your Giving Tuesday donations as we kick off our year-end fundraiser with a Facebook Matching Gift Campaign\, and a live-music event hosted by the peacemakers!\n \nAll donations given exactly at 8:00am EST will be matched by Facebook!\n \nIt is highly competitive\, but thanks to AR’s dedicated supporters last year\, we received hundreds of dollars in matching funds last year from Facebook!\n \nSet an alarm – save the date – and you can donate at any time on Giving Tuesday through our website\, checks\, and more.\n \nMore information coming soon.\n \n\n\nThis hour of music and gathering is a fundraiser event for the Peacemakers of the Holy Land — please donate on our Giving Tuesday Facebook Page\, Campaign Page\, or during the program to receive for free an Abrahamic Reunion Lapel Pin or Bumper Sticker\, or other gifts!\n\n\nClick to go to the AR’s Facebook\nGivingTuesday Campaign\n\n \n\n(Sample designs pictured left.)\n\n \n \n \nFeatured Musicians\n\nRabbi Leora Ezrachi-Vered\n\nRabbi Leora Ezrachi-Vered is third generation interfaith leader. Born in Jerusalem\, she serves the community of Nigun Halev in the Jezreel Valley. She is committed to promoting dialogue\, friendship and respect in the Holy Land. Rabbi Leora is married to Amit and has three sons.\n \n \n\nAbed Manasra\nSheikh Abed Alsalam Manasra is the Israeli Programs Director for the Abrahamic Reunion. He is an ordained Sheikh in the Tariqat Qadriyya As-Salaam (Qadiri Sufi Order Of Peace in the Holy Land)\, in which his father is also a Sheikh\, and his Grandfather\, Abdelsalam Manasra\, is the Head Sheikh. He is a musician\, performing classical Arabic and Sufi music and hymns with his wife\, and works with young adults and youth to organize interfaith dialogue and gatherings in and around Nazareth. Abed@abrahamicreunion.org\n \nMalkon Marizian\nIs an Armenian Christian youth peacebuilder from East Jerusalem\, who helps the AR as a translator for many events\, and is a longtime participant in the Abrahamic Reunion. Studied for an MSc in Human Rights from London School of Economics and Political Sciences\, and has worked in projects helping Palestinian and Syrian refugees\n \nRabbi David Zaslow\nServes as Rabbi of Havurah Shir Hadash in Ashland\, Oregon\, where he has hosted Sheikh Ghassan Manasra of the Abrahamic Reunion. Rabbi David Zaslow was born in Brooklyn\, New York in 1947. He was ordained in 1995 by Rabbi Zalman Schachter-Shalomi under the supervision and mentorship of Rabbi Aryeh Hirschfield. In the summer of 1996 he became spiritual leader of the Havurah\, which was founded in June 1985. In 2003 he completed his term as a Spiritual Advisor to ALEPH\, the umbrella organization of the Jewish Renewal movement. He is a longstanding interfaith advocate and leader.  \nNobar Voskerijan\nNobar Voskerjian\, a music artist from Bethlehem\, holds a Master’s in Music Education from Hebrew University of Jerusalem\, and is a professor of music at the Armenian School in Jerusalem and Dar al-Kalima School in Bethlehem. He also work as a music therapist for people with special needs.\n \n \n\nRimon Sabbagh\nRimon is a Christian Palestinian from Ramallah. He is graduated from Bir Zeit University studying Political Science and International Relations\, and is one of the members and founders of the Greek Catholic Youth Movement in Ramallah. He is engaged in the peace and cultural activities movements\, is a part of the Abrahamic Reunion’s Cultural Leaders in Peace Training (Youth Cohort) and is a musician.\n \n \nHOSTS: \n \nSheikh Ghassan Manasra\, International Director of the Abrahamic Reunion\, oversees programming in the Holy Land and Internationally since 2015. He was one of the Abrahamic Reunion’s Co-Coordinators in the Holy Land from 2014-2015\, before moving to the US with his family\, and has been an active contributing Peacemaker with the AR for more than a decade. He is an ordained Sheikh in the Qadiri Sufi Order in the Holy Land\, and son of Sheikh Abdel Salaam Manasra – head of the Qadiri Sufi Order in the Holy Land. He is the founder of Anwar-Il-Salaam\, the Lights of Peace Center in Nazareth\, and is Director\, Islamic Cultural Center in Nazareth. Ghassan is an expert and lectures in Islam\, Islamic history\, Sufism\, and contemporary Muslim issues in the Middle East\, Europe\, and the USA. Ghassan@abrahamicreunion.org\n \nDavid Less is a global teacher of meditation\, conflict resolution and inter-faith dialog of over forty years. For over a decade he has been the Global Dean of the Universal Worship\, an organization in over thirty countries\,that honors the commonality in all religions and appreciates and respects the differences. He started promoting understanding rather than blame as a path to peace in the Holy Land in 2000 and was one of the founders of the Abrahamic Reunion shortly thereafter.
URL:https://www.abrahamicreunion.org/event/sacred-music-of-the-holy-land-giving-tuesday-special-event/
LOCATION:Zoom\, FL\, United States
CATEGORIES:AR Holy Land,AR USA,Concert / Music,Fundraiser,Online
END:VEVENT
END:VCALENDAR