BEGIN:VCALENDAR
VERSION:2.0
PRODID:-//Abrahamic Reunion - ECPv6.15.20//NONSGML v1.0//EN
CALSCALE:GREGORIAN
METHOD:PUBLISH
X-ORIGINAL-URL:https://www.abrahamicreunion.org
X-WR-CALDESC:Events for Abrahamic Reunion
REFRESH-INTERVAL;VALUE=DURATION:PT1H
X-Robots-Tag:noindex
X-PUBLISHED-TTL:PT1H
BEGIN:VTIMEZONE
TZID:UTC
BEGIN:STANDARD
TZOFFSETFROM:+0000
TZOFFSETTO:+0000
TZNAME:UTC
DTSTART:20220101T000000
END:STANDARD
END:VTIMEZONE
BEGIN:VEVENT
DTSTART;TZID=UTC:20230215T110000
DTEND;TZID=UTC:20230215T120000
DTSTAMP:20260422T141509
CREATED:20230210T221816Z
LAST-MODIFIED:20230210T221816Z
UID:9231-1676458800-1676462400@www.abrahamicreunion.org
SUMMARY:Unity Prayer of Love
DESCRIPTION:Featured Leaders TBA\n  \n& Hosted by Sheikh Ghassan Manasra & David Less\n\n“Love your neighbor as yourself” (Leviticus 19:18)\n“And My Mercy encompasses everything.” (Surah Al-A’raf\, 7:156)\n“God is love\, and whoever abides in love abides in God\, and God abides in him.” (1 John 4:16)\n\nPlease Register (for free) in advance if you are new to Abrahamic Reunion.\nClick Here To Join the Zoom Meeting\n  \nJoin the Abrahamic Reunion for an hour of connection with courageous peacebuilders and spiritual luminaries from Palestine and Israel\, who will share prayers\, inspiration\, and reflections on the theme of giving and generosity.\n\nGroup prayer has a powerful effect. This is true not only for Israel and Palestine\, but throughout the world. Communal prayer and meditation\, with a focus on the common good\, can create the shift in consciousness that we all seek.\n\nAt each Online Unity Prayer for the Holy Land\, religious leaders and holy peacemakers in Israel and Palestine will join together on zoom and lead 45 minutes of prayer in the spirit of interconnection and peace.\n\nDavid Less\, AR Board Chairman\, and Sheikh Ghassan Manasra\, AR International Director host each Unity Prayer’s Muslim\, Jewish\, Christian\, and Druze prayer leaders – women\, men\, and youth.\n\nPlease join us. The addition of your prayer energy will help build the change we all seek.\n\nPeace\, Salaam\, Shalom\n\nBios\n\n\n\n\n  \n\n\n\n\n \nDavid Less\nAbrahamic Reunion US Board Chair \n\n\nDavid Less is a global teacher of meditation and interfaith dialog of over forty years. For over a decade he was the Global Dean of the Universal Worship\, an organization in over thirty countries\,that honors the commonality in all religions and appreciates and respects the differences. He started promoting understanding rather than blame as a path to peace in the Holy Land in 2000 and was one of the founders of the Abrahamic Reunion shortly thereafter.  To contact\, reach out to info@abrahamicreunion.org \n\n\n \nSheikh Ghassan Manasra\nAbrahamic Reunion International Director \n\n\nSheikh Ghassan Manasra was one of the Abrahamic Reunion’s Co-Coordinators in the Holy Land until moving to the US in 2015\, and has been an active contributing Peacemaker with the AR for more than a decade. He is an ordained Sheikh in the Qadiri Sufi Order in the Holy Land\, and son of Sheikh Abdel Salaam Manasra – head of the Qadiri Sufi Order in the Holy Land. He is the founder of Anwar-Il-Salaam\, the Lights of Peace Center in Nazareth\, and  is Director\, Islamic Cultural Center in Nazareth. Ghassan is an expert and lectures in Islam\, Islamic history\, Sufism\, and contemporary Muslim issues  in the Middle East\, Europe\, and the USA. Ghassan@abrahamicreunion.org
URL:https://www.abrahamicreunion.org/event/unity-prayer-of-love/
LOCATION:FL
CATEGORIES:AR Holy Land,AR USA,Interfaith Meeting,Online
END:VEVENT
END:VCALENDAR